Workbook
Name _260801J: Sheet1!$A$1:$N$365

Sheet Sheet1
A1: 地区名称 | B1: 日本(男) | C1: 日本(女) | D1: 日本人 | E1: 外国(男) | F1: 外国(女) | G1: 外国人 | H1: 日本世帯 | I1: 外国世帯 | J1: 混合世帯 | K1: 男 | L1: 女 | M1: 合計 | N1: 世帯
A2: 三国町山王一丁目 | B2: =VLOOKUP($A2,Sheet2!$A:$H,2,FALSE) -> 18 | C2: =VLOOKUP($A2,Sheet2!$A:$H,3,FALSE) -> 18 | D2: =SUM(B2:C2) -> 36 | E2: =VLOOKUP($A2,Sheet2!$A:$H,4,FALSE) -> 0 | F2: =VLOOKUP($A2,Sheet2!$A:$H,5,FALSE) -> 0 | G2: =SUM(E2:F2) -> 0 | H2: =VLOOKUP($A2,Sheet2!$A:$H,6,FALSE) -> 16 | I2: =VLOOKUP($A2,Sheet2!$A:$H,7,FALSE) -> 0 | J2: =VLOOKUP($A2,Sheet2!$A:$H,8,FALSE) -> 0 | K2: =B2+E2 -> 18 | L2: =C2+F2 -> 18 | M2: =SUM(K2:L2) -> 36 | N2: =SUM(H2:J2) -> 16
A3: 三国町山王二丁目 | B3: =VLOOKUP($A3,Sheet2!$A:$H,2,FALSE) -> 68 | C3: =VLOOKUP($A3,Sheet2!$A:$H,3,FALSE) -> 71 | D3: =SUM(B3:C3) -> 139 | E3: =VLOOKUP($A3,Sheet2!$A:$H,4,FALSE) -> 0 | F3: =VLOOKUP($A3,Sheet2!$A:$H,5,FALSE) -> 0 | G3: =SUM(E3:F3) -> 0 | H3: =VLOOKUP($A3,Sheet2!$A:$H,6,FALSE) -> 58 | I3: =VLOOKUP($A3,Sheet2!$A:$H,7,FALSE) -> 0 | J3: =VLOOKUP($A3,Sheet2!$A:$H,8,FALSE) -> 0 | K3: =B3+E3 -> 68 | L3: =C3+F3 -> 71 | M3: =SUM(K3:L3) -> 139 | N3: =SUM(H3:J3) -> 58
A4: 三国町山王三丁目 | B4: =VLOOKUP($A4,Sheet2!$A:$H,2,FALSE) -> 53 | C4: =VLOOKUP($A4,Sheet2!$A:$H,3,FALSE) -> 73 | D4: =SUM(B4:C4) -> 126 | E4: =VLOOKUP($A4,Sheet2!$A:$H,4,FALSE) -> 0 | F4: =VLOOKUP($A4,Sheet2!$A:$H,5,FALSE) -> 0 | G4: =SUM(E4:F4) -> 0 | H4: =VLOOKUP($A4,Sheet2!$A:$H,6,FALSE) -> 53 | I4: =VLOOKUP($A4,Sheet2!$A:$H,7,FALSE) -> 0 | J4: =VLOOKUP($A4,Sheet2!$A:$H,8,FALSE) -> 0 | K4: =B4+E4 -> 53 | L4: =C4+F4 -> 73 | M4: =SUM(K4:L4) -> 126 | N4: =SUM(H4:J4) -> 53
A5: 三国町山王四丁目 | B5: =VLOOKUP($A5,Sheet2!$A:$H,2,FALSE) -> 89 | C5: =VLOOKUP($A5,Sheet2!$A:$H,3,FALSE) -> 84 | D5: =SUM(B5:C5) -> 173 | E5: =VLOOKUP($A5,Sheet2!$A:$H,4,FALSE) -> 4 | F5: =VLOOKUP($A5,Sheet2!$A:$H,5,FALSE) -> 0 | G5: =SUM(E5:F5) -> 4 | H5: =VLOOKUP($A5,Sheet2!$A:$H,6,FALSE) -> 63 | I5: =VLOOKUP($A5,Sheet2!$A:$H,7,FALSE) -> 4 | J5: =VLOOKUP($A5,Sheet2!$A:$H,8,FALSE) -> 0 | K5: =B5+E5 -> 93 | L5: =C5+F5 -> 84 | M5: =SUM(K5:L5) -> 177 | N5: =SUM(H5:J5) -> 67
A6: 三国町山王五丁目 | B6: =VLOOKUP($A6,Sheet2!$A:$H,2,FALSE) -> 3 | C6: =VLOOKUP($A6,Sheet2!$A:$H,3,FALSE) -> 2 | D6: =SUM(B6:C6) -> 5 | E6: =VLOOKUP($A6,Sheet2!$A:$H,4,FALSE) -> 0 | F6: =VLOOKUP($A6,Sheet2!$A:$H,5,FALSE) -> 0 | G6: =SUM(E6:F6) -> 0 | H6: =VLOOKUP($A6,Sheet2!$A:$H,6,FALSE) -> 2 | I6: =VLOOKUP($A6,Sheet2!$A:$H,7,FALSE) -> 0 | J6: =VLOOKUP($A6,Sheet2!$A:$H,8,FALSE) -> 0 | K6: =B6+E6 -> 3 | L6: =C6+F6 -> 2 | M6: =SUM(K6:L6) -> 5 | N6: =SUM(H6:J6) -> 2
A7: 三国町山王六丁目 | B7: =VLOOKUP($A7,Sheet2!$A:$H,2,FALSE) -> 64 | C7: =VLOOKUP($A7,Sheet2!$A:$H,3,FALSE) -> 55 | D7: =SUM(B7:C7) -> 119 | E7: =VLOOKUP($A7,Sheet2!$A:$H,4,FALSE) -> 0 | F7: =VLOOKUP($A7,Sheet2!$A:$H,5,FALSE) -> 0 | G7: =SUM(E7:F7) -> 0 | H7: =VLOOKUP($A7,Sheet2!$A:$H,6,FALSE) -> 54 | I7: =VLOOKUP($A7,Sheet2!$A:$H,7,FALSE) -> 0 | J7: =VLOOKUP($A7,Sheet2!$A:$H,8,FALSE) -> 0 | K7: =B7+E7 -> 64 | L7: =C7+F7 -> 55 | M7: =SUM(K7:L7) -> 119 | N7: =SUM(H7:J7) -> 54
A8: 三国町殿島 | B8: =VLOOKUP($A8,Sheet2!$A:$H,2,FALSE) -> 65 | C8: =VLOOKUP($A8,Sheet2!$A:$H,3,FALSE) -> 55 | D8: =SUM(B8:C8) -> 120 | E8: =VLOOKUP($A8,Sheet2!$A:$H,4,FALSE) -> 0 | F8: =VLOOKUP($A8,Sheet2!$A:$H,5,FALSE) -> 0 | G8: =SUM(E8:F8) -> 0 | H8: =VLOOKUP($A8,Sheet2!$A:$H,6,FALSE) -> 43 | I8: =VLOOKUP($A8,Sheet2!$A:$H,7,FALSE) -> 0 | J8: =VLOOKUP($A8,Sheet2!$A:$H,8,FALSE) -> 0 | K8: =B8+E8 -> 65 | L8: =C8+F8 -> 55 | M8: =SUM(K8:L8) -> 120 | N8: =SUM(H8:J8) -> 43
A9: 三国町汐見一丁目 | B9: =VLOOKUP($A9,Sheet2!$A:$H,2,FALSE) -> 32 | C9: =VLOOKUP($A9,Sheet2!$A:$H,3,FALSE) -> 28 | D9: =SUM(B9:C9) -> 60 | E9: =VLOOKUP($A9,Sheet2!$A:$H,4,FALSE) -> 0 | F9: =VLOOKUP($A9,Sheet2!$A:$H,5,FALSE) -> 0 | G9: =SUM(E9:F9) -> 0 | H9: =VLOOKUP($A9,Sheet2!$A:$H,6,FALSE) -> 20 | I9: =VLOOKUP($A9,Sheet2!$A:$H,7,FALSE) -> 0 | J9: =VLOOKUP($A9,Sheet2!$A:$H,8,FALSE) -> 0 | K9: =B9+E9 -> 32 | L9: =C9+F9 -> 28 | M9: =SUM(K9:L9) -> 60 | N9: =SUM(H9:J9) -> 20
A10: 三国町汐見二丁目 | B10: =VLOOKUP($A10,Sheet2!$A:$H,2,FALSE) -> 24 | C10: =VLOOKUP($A10,Sheet2!$A:$H,3,FALSE) -> 32 | D10: =SUM(B10:C10) -> 56 | E10: =VLOOKUP($A10,Sheet2!$A:$H,4,FALSE) -> 0 | F10: =VLOOKUP($A10,Sheet2!$A:$H,5,FALSE) -> 0 | G10: =SUM(E10:F10) -> 0 | H10: =VLOOKUP($A10,Sheet2!$A:$H,6,FALSE) -> 21 | I10: =VLOOKUP($A10,Sheet2!$A:$H,7,FALSE) -> 0 | J10: =VLOOKUP($A10,Sheet2!$A:$H,8,FALSE) -> 0 | K10: =B10+E10 -> 24 | L10: =C10+F10 -> 32 | M10: =SUM(K10:L10) -> 56 | N10: =SUM(H10:J10) -> 21
A11: 三国町汐見三丁目 | B11: =VLOOKUP($A11,Sheet2!$A:$H,2,FALSE) -> 16 | C11: =VLOOKUP($A11,Sheet2!$A:$H,3,FALSE) -> 18 | D11: =SUM(B11:C11) -> 34 | E11: =VLOOKUP($A11,Sheet2!$A:$H,4,FALSE) -> 0 | F11: =VLOOKUP($A11,Sheet2!$A:$H,5,FALSE) -> 0 | G11: =SUM(E11:F11) -> 0 | H11: =VLOOKUP($A11,Sheet2!$A:$H,6,FALSE) -> 9 | I11: =VLOOKUP($A11,Sheet2!$A:$H,7,FALSE) -> 0 | J11: =VLOOKUP($A11,Sheet2!$A:$H,8,FALSE) -> 0 | K11: =B11+E11 -> 16 | L11: =C11+F11 -> 18 | M11: =SUM(K11:L11) -> 34 | N11: =SUM(H11:J11) -> 9
A12: 三国町南本町一丁目 | B12: =VLOOKUP($A12,Sheet2!$A:$H,2,FALSE) -> 19 | C12: =VLOOKUP($A12,Sheet2!$A:$H,3,FALSE) -> 13 | D12: =SUM(B12:C12) -> 32 | E12: =VLOOKUP($A12,Sheet2!$A:$H,4,FALSE) -> 0 | F12: =VLOOKUP($A12,Sheet2!$A:$H,5,FALSE) -> 1 | G12: =SUM(E12:F12) -> 1 | H12: =VLOOKUP($A12,Sheet2!$A:$H,6,FALSE) -> 15 | I12: =VLOOKUP($A12,Sheet2!$A:$H,7,FALSE) -> 0 | J12: =VLOOKUP($A12,Sheet2!$A:$H,8,FALSE) -> 1 | K12: =B12+E12 -> 19 | L12: =C12+F12 -> 14 | M12: =SUM(K12:L12) -> 33 | N12: =SUM(H12:J12) -> 16
A13: 三国町南本町二丁目 | B13: =VLOOKUP($A13,Sheet2!$A:$H,2,FALSE) -> 71 | C13: =VLOOKUP($A13,Sheet2!$A:$H,3,FALSE) -> 86 | D13: =SUM(B13:C13) -> 157 | E13: =VLOOKUP($A13,Sheet2!$A:$H,4,FALSE) -> 2 | F13: =VLOOKUP($A13,Sheet2!$A:$H,5,FALSE) -> 1 | G13: =SUM(E13:F13) -> 3 | H13: =VLOOKUP($A13,Sheet2!$A:$H,6,FALSE) -> 75 | I13: =VLOOKUP($A13,Sheet2!$A:$H,7,FALSE) -> 2 | J13: =VLOOKUP($A13,Sheet2!$A:$H,8,FALSE) -> 0 | K13: =B13+E13 -> 73 | L13: =C13+F13 -> 87 | M13: =SUM(K13:L13) -> 160 | N13: =SUM(H13:J13) -> 77
... A365: 坂井市合計 | B365: =VLOOKUP($A365,Sheet2!$A:$H,2,FALSE) -> 41417 | C365: =VLOOKUP($A365,Sheet2!$A:$H,3,FALSE) -> 43702 | D365: =SUM(B365:C365) -> 85119 | E365: =VLOOKUP($A365,Sheet2!$A:$H,4,FALSE) -> 1229 | F365: =VLOOKUP($A365,Sheet2!$A:$H,5,FALSE) -> 996 | G365: =SUM(E365:F365) -> 2225 | H365: =VLOOKUP($A365,Sheet2!$A:$H,6,FALSE) -> 32298 | I365: =VLOOKUP($A365,Sheet2!$A:$H,7,FALSE) -> 1728 | J365: =VLOOKUP($A365,Sheet2!$A:$H,8,FALSE) -> 259 | K365: =B365+E365 -> 42646 | L365: =C365+F365 -> 44698 | M365: =SUM(K365:L365) -> 87344 | N365: =SUM(H365:J365) -> 34285

Sheet Sheet2
A1: 住所名称 | B1: 日本人 | C1: 日本人 | D1: 外国人 | E1: 外国人 | F1: 日本人 | G1: 外国人 | H1: 混合
B2: 男 | C2: 女 | D2: 男 | E2: 女 | F2: 世帯 | G2: 世帯 | H2: 世帯
A3: 三国町山王一丁目 | B3: 18 | C3: 18 | D3: 0 | E3: 0 | F3: 16 | G3: 0 | H3: 0
A4: 三国町山王二丁目 | B4: 68 | C4: 71 | D4: 0 | E4: 0 | F4: 58 | G4: 0 | H4: 0
A5: 三国町山王三丁目 | B5: 53 | C5: 73 | D5: 0 | E5: 0 | F5: 53 | G5: 0 | H5: 0
A6: 三国町山王四丁目 | B6: 89 | C6: 84 | D6: 4 | E6: 0 | F6: 63 | G6: 4 | H6: 0
A7: 三国町山王五丁目 | B7: 3 | C7: 2 | D7: 0 | E7: 0 | F7: 2 | G7: 0 | H7: 0
A8: 三国町山王六丁目 | B8: 64 | C8: 55 | D8: 0 | E8: 0 | F8: 54 | G8: 0 | H8: 0
A9: 三国町殿島 | B9: 65 | C9: 55 | D9: 0 | E9: 0 | F9: 43 | G9: 0 | H9: 0
A10: 三国町汐見一丁目 | B10: 32 | C10: 28 | D10: 0 | E10: 0 | F10: 20 | G10: 0 | H10: 0
A11: 三国町汐見二丁目 | B11: 24 | C11: 32 | D11: 0 | E11: 0 | F11: 21 | G11: 0 | H11: 0
A12: 三国町汐見三丁目 | B12: 16 | C12: 18 | D12: 0 | E12: 0 | F12: 9 | G12: 0 | H12: 0
A13: 三国町南本町一丁目 | B13: 19 | C13: 13 | D13: 0 | E13: 1 | F13: 15 | G13: 0 | H13: 1
A14: 三国町南本町二丁目 | B14: 71 | C14: 86 | D14: 2 | E14: 1 | F14: 75 | G14: 2 | H14: 0
... A366: 坂井市合計 | B366: 41417 | C366: 43702 | D366: 1229 | E366: 996 | F366: 32298 | G366: 1728 | H366: 259
