Workbook
Name 許可の区分: #REF!
Name 許可の区分: #REF!
Name 届出区分: #REF!
Name 届出区分: #REF!

Sheet 業者カード
A1: 坂井市 | E1: ="["&TEXT(AI3,"ggge年m月d日")&"改訂]" -> [令和8年9月1日改訂] | X1: 登録開始日 | AB1: 46508 | AH1: 【取込み用計算式】 | AP1: =A1 -> 坂井市 | AT1: ="["&TEXT(AI3,"ggge年m月d日")&"改訂]" -> [令和8年9月1日改訂]
AH2: CLASS | AI2: 0 | AJ2: 2026
A3: 業者カード（建設工事） | AH3: UPDATE | AI3: 46266 | AP3: 業者カード（建設工事）
AH4: VERSION | AI4: =TEXT(AI3,"yyyyMMDD") -> 20260901 | AJ4: 1 | AK4: =AI4&TEXT(AJ4,"00") -> 2026090101
A5: ※太枠箇所を記入してください | O5: =IF(SUM($AJ$58:$AJ$86)>0," ※希望工種を確認してください（許可区分を入力してください）","") | AH5: LASDEC | AI5: 18210 | AP5: ※太枠箇所を記入してください
A6: 申請年度 | F6: 令和９・１０年度 | AP6: 申請年度 | AU6: =IF(F6="","",F6) -> 令和９・１０年度
A7: 業者番号 | AH7: =IF(F7="","",F7) | AP7: 業者番号 | AU7: 坂井市入力
A8: 法人番号 | AH8: =RIGHT("0000000000000"&F8,13) -> 0000000000000 | AP8: 法人番号 | AU8: 0123456789012
A9: インボイス 登録番号 | F9: T | AH9: =IF(G9<>"",1,0) -> 0 | AI9: =RIGHT("0000000000000"&G9,13) -> 0000000000000 | AP9: インボイス 登録番号 | AU9: T | AV9: 0123456789012
A10: 届出区分 | O10: 本社又は委任先の所在地 | AH10: =IF(F10="","",VLOOKUP(F10,G146:Q147,11,FALSE)) | AI10: =IF(T10="","",VLOOKUP(T10,G149:Q153,11,FALSE)) | AP10: 届出区分 | AU10: 新規 | BD10: 本社又は委任先の所在地 | BI10: 市内
A12: 申請者(本社) | AP12: 申請者(本社)
A13: フリガナ | AH13: =IF(O13="","",O13) | AP13: フリガナ | BD13: サンプルケンセツ
A14: 商号又は名称 | F14: 法人名 | M14: 商号 | AH14: =AJ14&O14&AK14 | AI14: =IF(I14="","",VLOOKUP(I14,G192:Q200,11,FALSE)) | AJ14: =IF(I14="","",IF(LEFT(I14,1)="前",VLOOKUP(I14,G192:S200,13,FALSE),"")) | AK14: =IF(I14="","",IF(LEFT(I14,1)="後",VLOOKUP(I14,G192:S200,13,FALSE),"")) | AP14: 商号又は名称 | AU14: 法人名 | AX14: 後 株式会社 | BB14: 商号 | BD14: Ｓａｍｐｌｅ建設
A15: 所在地又は住所 | F15: 郵便番号 | I15: 〒 | L15: - | AH15: =AI15&AJ15 | AI15: =IF(J15="","",J15&L15) | AJ15: =IF(M15="","",M15) | AP15: 所在地又は住所 | AU15: 郵便番号 | AX15: 〒 | AY15: 000 | BA15: - | BB15: 0000
F16: 都道府県 | AH16: =I16&I17&I18 | AU16: 都道府県 | AX16: ○○県
F17: 市区町村 | AU17: 市区町村 | AX17: ○○市
F18: 町名地番 | AU18: 町名地番 | AX18: ○○１－１
A19: フリガナ | AP19: フリガナ | BF19: ケンセツ タロウ
A20: 代表者 | F20: 役職 | O20: 氏名 | AP20: 代表者 | AU20: 役職 | AW20: 代表取締役社長 | BD20: 氏名 | BF20: 建設 太郎
A21: 電話番号 | AP21: 電話番号 | AU21: 1234-56-0001
A22: ＦＡＸ番号 | AP22: ＦＡＸ番号 | AU22: 1234-56-0002
A23: メールアドレス | AP23: メールアドレス | AU23: t-kensetsu@sample.co.jp
A25: 営業所（委任する場合は記入） | AP25: 営業所（委任する場合は記入）
A26: フリガナ | F26: =IF(AH13="","",AH13) | AH26: =IF(Q26="","",F26&" "&Q26) | AP26: フリガナ | AU26: サンプルケンセツ | BF26: チュウオウエイギョウショ
A27: 名称 | F27: =AH14 | AH27: =IF(Q27="","",F27&" "&Q27) | AP27: 名称 | AU27: Ｓａｍｐｌｅ建設（株） | BF27: 中央営業所
A28: 所在地又は住所 | F28: 郵便番号 | I28: 〒 | L28: - | AH28: =AI28&AJ28 | AI28: =IF(J28="","",J28&L28) | AJ28: =IF(M28="","",M28) | AP28: 所在地又は住所 | AU28: 郵便番号 | AX28: 〒 | AY28: 910 | BA28: - | BB28: 0000
F29: 都道府県 | AH29: =I29&I30&I31 | AU29: 都道府県 | AX29: 福井県
F30: 市区町村 | AU30: 市区町村 | AX30: ○○市
F31: 町名地番 | AU31: 町名地番 | AX31: ○○２－１
A32: フリガナ | AP32: フリガナ | BF32: ケンセツ ジロウ
A33: 代表者 | F33: 役職 | O33: 氏名 | AP33: 代表者 | AU33: 役職 | AW33: 所長 | BD33: 氏名 | BF33: 建設 次郎
A34: 電話番号 | AP34: 電話番号 | AU34: 1234-56-0003
A35: ＦＡＸ番号 | AP35: ＦＡＸ番号 | AU35: 1234-56-0004
A36: メールアドレス | AP36: メールアドレス | AU36: j-kensetsu@sample.co.jp
A38: 資本金 | P38: 千円 | R38: 自己資本金 | AF38: 千円 | AP38: 資本金 | AU38: 350000 | BE38: 千円 | BG38: 自己資本金 | BL38: 350000 | BU38: 千円
A39: 設立登記年月日 | R39: 営業年数 | Y39: 年 | Z39: 従業員数 | AG39: 人 | AP39: 設立登記年月日 | AU39: =DATE(YEAR(TODAY())-BJ39,6,1) -> 35217 | BG39: 営業年数 | BJ39: 30 | BN39: 年 | BO39: 従業員数 | BR39: 18 | BV39: 人
A41: 問い合わせ先 | AP41: 問い合わせ先
A42: フリガナ | AP42: フリガナ | BF42: ケンセツ イチロウ
A43: 氏名 | F43: 部署 | O43: 氏名 | AP43: 氏名 | AU43: 部署 | AW43: 営業課 | BD43: 氏名 | BF43: 建設 一郎
A44: 電話番号 | AP44: 電話番号 | AU44: 1234-56-0003
A45: ＦＡＸ番号 | AP45: ＦＡＸ番号 | AU45: 1234-56-0004
A46: メールアドレス | AP46: メールアドレス | AU46: i-kensetsu@sample.co.jp
A49: 建設業の許可状況（経審情報） | AP49: 建設業の許可状況（経審情報）
A50: 建設業許可の種類 | F50: 1 | O50: 許可番号 | S50: 第 | W50: 号 | X50: 許可年月日 | AH50: =IF(G50="","",VLOOKUP(G50,$G$155:$Q$156,11,FALSE)) | AP50: 建設業許可の種類 | AU50: 1 | AV50: 国土交通省大臣 | BD50: 許可番号 | BH50: 第 | BI50: 999999 | BL50: 号 | BM50: 許可年月日 | BQ50: =DATE(YEAR(TODAY())-5,8,1) -> 44409
A51: ※審査基準日以降は、経営事項審査結果通知書に記載の基準日、完成工事高、総合評定値を記入してください。 | AP51: ※審査基準日以降は、経営事項審査結果通知書に記載の基準日、完成工事高、総合評定値を記入してください。
A52: 審査基準日 | Q52: 完成工事高合計 | AF52: 千円 | AP52: 審査基準日 | AU52: =DATE(YEAR(TODAY())-3,12,1) -> 45261 | BF52: 完成工事高合計 | BM52: 1200000 | BU52: 千円
A54: 登録を希望する工種 | AP54: 登録を希望する工種
A55: ※区分（一般・特定）は必ず選択してください。空白の場合、入札参加資格が許可されないことがあります。 | AP55: ※区分（一般・特定）は必ず選択してください。空白の場合、入札参加資格が許可されないことがあります。
A56: 許可 区分 | C56: 建設業の種類 | Q56: 総合評定値(Ｐ) | V56: 2･3年平均完成工事高 | AP56: 許可 区分 | AR56: 建設業の種類 | BF56: 総合評定値(Ｐ) | BK56: 2･3年平均完成工事高
V57: 完成工事高 | AB57: 元請完成工事高 | AJ57: 設定有無 | BK57: 完成工事高 | BQ57: 元請完成工事高
A58: 一般 | C58: 土木一式 | Z58: 千円 | AF58: 千円 | AH58: =IF(A58="","",VLOOKUP(A58,$G$158:$Q$159,11,FALSE)) -> 1 | AI58: =VLOOKUP(C58,$G$161:$Q$189,11,FALSE) -> 0 | AJ58: =IF(AND($A58="",OR($Q58<>"",$V58<>"",$AB58<>"")),1,0) -> 0 | AP58: 特定 | AR58: 土木一式 | BF58: 900 | BK58: 1100000 | BO58: 千円 | BQ58: 900000 | BU58: 千円
C59: 建築一式 | Z59: 千円 | AF59: 千円 | AH59: =IF(A59="","",VLOOKUP(A59,$G$158:$Q$159,11,FALSE)) | AI59: =VLOOKUP(C59,$G$161:$Q$189,11,FALSE) -> 1 | AJ59: =IF(AND($A59="",OR($Q59<>"",$V59<>"",$AB59<>"")),1,0) -> 0 | AR59: 建築一式 | BO59: 千円 | BU59: 千円
A60: 特定 | C60: 大工 | Z60: 千円 | AF60: 千円 | AH60: =IF(A60="","",VLOOKUP(A60,$G$158:$Q$159,11,FALSE)) -> 2 | AI60: =VLOOKUP(C60,$G$161:$Q$189,11,FALSE) -> 2 | AJ60: =IF(AND($A60="",OR($Q60<>"",$V60<>"",$AB60<>"")),1,0) -> 0 | AR60: 大工 | BO60: 千円 | BU60: 千円
A61: 特定 | C61: 左官 | Z61: 千円 | AF61: 千円 | AH61: =IF(A61="","",VLOOKUP(A61,$G$158:$Q$159,11,FALSE)) -> 2 | AI61: =VLOOKUP(C61,$G$161:$Q$189,11,FALSE) -> 3 | AJ61: =IF(AND($A61="",OR($Q61<>"",$V61<>"",$AB61<>"")),1,0) -> 0 | AR61: 左官 | BO61: 千円 | BU61: 千円
C62: とび・土工・コンクリート | Z62: 千円 | AF62: 千円 | AH62: =IF(A62="","",VLOOKUP(A62,$G$158:$Q$159,11,FALSE)) | AI62: =VLOOKUP(C62,$G$161:$Q$189,11,FALSE) -> 4 | AJ62: =IF(AND($A62="",OR($Q62<>"",$V62<>"",$AB62<>"")),1,0) -> 0 | AP62: 一般 | AR62: とび・土工・コンクリート | BF62: 420 | BK62: 500000 | BO62: 千円 | BQ62: 480000 | BU62: 千円
C63: 石 | Z63: 千円 | AF63: 千円 | AH63: =IF(A63="","",VLOOKUP(A63,$G$158:$Q$159,11,FALSE)) | AI63: =VLOOKUP(C63,$G$161:$Q$189,11,FALSE) -> 5 | AJ63: =IF(AND($A63="",OR($Q63<>"",$V63<>"",$AB63<>"")),1,0) -> 0 | AR63: 石 | BO63: 千円 | BU63: 千円
C64: 屋根 | Z64: 千円 | AF64: 千円 | AH64: =IF(A64="","",VLOOKUP(A64,$G$158:$Q$159,11,FALSE)) | AI64: =VLOOKUP(C64,$G$161:$Q$189,11,FALSE) -> 6 | AJ64: =IF(AND($A64="",OR($Q64<>"",$V64<>"",$AB64<>"")),1,0) -> 0 | AR64: 屋根 | BO64: 千円 | BU64: 千円
C65: 電気 | Z65: 千円 | AF65: 千円 | AH65: =IF(A65="","",VLOOKUP(A65,$G$158:$Q$159,11,FALSE)) | AI65: =VLOOKUP(C65,$G$161:$Q$189,11,FALSE) -> 7 | AJ65: =IF(AND($A65="",OR($Q65<>"",$V65<>"",$AB65<>"")),1,0) -> 0 | AR65: 電気 | BO65: 千円 | BU65: 千円
C66: 管 | Z66: 千円 | AF66: 千円 | AH66: =IF(A66="","",VLOOKUP(A66,$G$158:$Q$159,11,FALSE)) | AI66: =VLOOKUP(C66,$G$161:$Q$189,11,FALSE) -> 8 | AJ66: =IF(AND($A66="",OR($Q66<>"",$V66<>"",$AB66<>"")),1,0) -> 0 | AR66: 管 | BO66: 千円 | BU66: 千円
C67: タイル・レンガ・ブロック | Z67: 千円 | AF67: 千円 | AH67: =IF(A67="","",VLOOKUP(A67,$G$158:$Q$159,11,FALSE)) | AI67: =VLOOKUP(C67,$G$161:$Q$189,11,FALSE) -> 9 | AJ67: =IF(AND($A67="",OR($Q67<>"",$V67<>"",$AB67<>"")),1,0) -> 0 | AR67: タイル・レンガ・ブロック | BO67: 千円 | BU67: 千円
C68: 鋼構造物 | Z68: 千円 | AF68: 千円 | AH68: =IF(A68="","",VLOOKUP(A68,$G$158:$Q$159,11,FALSE)) | AI68: =VLOOKUP(C68,$G$161:$Q$189,11,FALSE) -> 10 | AJ68: =IF(AND($A68="",OR($Q68<>"",$V68<>"",$AB68<>"")),1,0) -> 0 | AR68: 鋼構造物 | BO68: 千円 | BU68: 千円
C69: 鉄筋 | Z69: 千円 | AF69: 千円 | AH69: =IF(A69="","",VLOOKUP(A69,$G$158:$Q$159,11,FALSE)) | AI69: =VLOOKUP(C69,$G$161:$Q$189,11,FALSE) -> 11 | AJ69: =IF(AND($A69="",OR($Q69<>"",$V69<>"",$AB69<>"")),1,0) -> 0 | AR69: 鉄筋 | BO69: 千円 | BU69: 千円
C70: 舗装 | Z70: 千円 | AF70: 千円 | AH70: =IF(A70="","",VLOOKUP(A70,$G$158:$Q$159,11,FALSE)) | AI70: =VLOOKUP(C70,$G$161:$Q$189,11,FALSE) -> 12 | AJ70: =IF(AND($A70="",OR($Q70<>"",$V70<>"",$AB70<>"")),1,0) -> 0 | AR70: 舗装 | BO70: 千円 | BU70: 千円
C71: しゅんせつ | Z71: 千円 | AF71: 千円 | AH71: =IF(A71="","",VLOOKUP(A71,$G$158:$Q$159,11,FALSE)) | AI71: =VLOOKUP(C71,$G$161:$Q$189,11,FALSE) -> 13 | AJ71: =IF(AND($A71="",OR($Q71<>"",$V71<>"",$AB71<>"")),1,0) -> 0 | AR71: しゅんせつ | BO71: 千円 | BU71: 千円
C72: 板金 | Z72: 千円 | AF72: 千円 | AH72: =IF(A72="","",VLOOKUP(A72,$G$158:$Q$159,11,FALSE)) | AI72: =VLOOKUP(C72,$G$161:$Q$189,11,FALSE) -> 14 | AJ72: =IF(AND($A72="",OR($Q72<>"",$V72<>"",$AB72<>"")),1,0) -> 0 | AR72: 板金 | BO72: 千円 | BU72: 千円
C73: ガラス | Z73: 千円 | AF73: 千円 | AH73: =IF(A73="","",VLOOKUP(A73,$G$158:$Q$159,11,FALSE)) | AI73: =VLOOKUP(C73,$G$161:$Q$189,11,FALSE) -> 15 | AJ73: =IF(AND($A73="",OR($Q73<>"",$V73<>"",$AB73<>"")),1,0) -> 0 | AR73: ガラス | BO73: 千円 | BU73: 千円
C74: 塗装 | Z74: 千円 | AF74: 千円 | AH74: =IF(A74="","",VLOOKUP(A74,$G$158:$Q$159,11,FALSE)) | AI74: =VLOOKUP(C74,$G$161:$Q$189,11,FALSE) -> 16 | AJ74: =IF(AND($A74="",OR($Q74<>"",$V74<>"",$AB74<>"")),1,0) -> 0 | AR74: 塗装 | BO74: 千円 | BU74: 千円
... C86: 解体工事 | Z86: 千円 | AF86: 千円 | AH86: =IF(A86="","",VLOOKUP(A86,$G$158:$Q$159,11,FALSE)) | AI86: =VLOOKUP(C86,$G$161:$Q$189,11,FALSE) -> 28 | AJ86: =IF(AND($A86="",OR($Q86<>"",$V86<>"",$AB86<>"")),1,0) -> 0 | AR86: 解体工事 | BO86: 千円 | BU86: 千円
A88: 入札希望工種 | O88: 許可区分 | Q88: 総合評定値(Ｐ) | V88: 2･3年平均完成工事高 | AJ88: 希望順位 | AP88: 入札希望工種 | BD88: 許可区分 | BF88: 総合評定値(Ｐ) | BK88: 2･3年平均完成工事高
A89: 第1希望 | O89: =IF(AI89="","",VLOOKUP(AI89,$F$158:$G$159,2,FALSE)) | Q89: =IF(C89="","",VLOOKUP(C89,$C$58:$Q$86,15,FALSE)) | V89: =IF(C89="","",VLOOKUP(C89,$C$58:$V$86,20,FALSE)) | Z89: 千円 | AB89: =IF(C89="","",VLOOKUP(C89,$C$58:$AB$86,26,FALSE)) | AF89: 千円 | AH89: =IF(C89="","",VLOOKUP(C89,$G$161:$Q$189,11,FALSE)) | AI89: =IF(C89="","",VLOOKUP(C89,$C$58:$AH$86,32,FALSE)) | AJ89: 1 | AP89: 第1希望 | AR89: 土木一式 | BD89: 特定 | BF89: =IF(AR89="","",VLOOKUP(AR89,$AR$58:$BF$86,15,FALSE)) -> 900 | BK89: =IF(AR89="","",VLOOKUP(AR89,$AR$58:$BK$86,20,FALSE)) -> 1100000 | BO89: 千円 | BQ89: =IF(AR89="","",VLOOKUP(AR89,$AR$58:$BQ$86,26,FALSE)) -> 900000 | BU89: 千円
A90: 第2希望 | O90: =IF(AI90="","",VLOOKUP(AI90,$F$158:$G$159,2,FALSE)) | Q90: =IF(C90="","",VLOOKUP(C90,$C$58:$Q$86,15,FALSE)) | V90: =IF(C90="","",VLOOKUP(C90,$C$58:$V$86,20,FALSE)) | Z90: 千円 | AB90: =IF(C90="","",VLOOKUP(C90,$C$58:$AB$86,26,FALSE)) | AF90: 千円 | AH90: =IF(C90="","",VLOOKUP(C90,$G$161:$Q$189,11,FALSE)) | AI90: =IF(C90="","",VLOOKUP(C90,$C$58:$AH$86,32,FALSE)) | AJ90: 2 | AP90: 第2希望 | AR90: とび・土工・コンクリート | BD90: 一般 | BF90: =IF(AR90="","",VLOOKUP(AR90,$AR$58:$BF$86,15,FALSE)) -> 420 | BK90: =IF(AR90="","",VLOOKUP(AR90,$AR$58:$BK$86,20,FALSE)) -> 500000 | BO90: 千円 | BQ90: =IF(AR90="","",VLOOKUP(AR90,$AR$58:$BQ$86,26,FALSE)) -> 480000 | BU90: 千円
A91: 第3希望 | O91: =IF(AI91="","",VLOOKUP(AI91,$F$158:$G$159,2,FALSE)) | Q91: =IF(C91="","",VLOOKUP(C91,$C$58:$Q$86,15,FALSE)) | V91: =IF(C91="","",VLOOKUP(C91,$C$58:$V$86,20,FALSE)) | Z91: 千円 | AB91: =IF(C91="","",VLOOKUP(C91,$C$58:$AB$86,26,FALSE)) | AF91: 千円 | AH91: =IF(C91="","",VLOOKUP(C91,$G$161:$Q$189,11,FALSE)) | AI91: =IF(C91="","",VLOOKUP(C91,$C$58:$AH$86,32,FALSE)) | AJ91: 3 | AP91: 第3希望 | BF91: =IF(AR91="","",VLOOKUP(AR91,$AR$58:$BF$86,15,FALSE)) | BK91: =IF(AR91="","",VLOOKUP(AR91,$AR$58:$BK$86,20,FALSE)) | BO91: 千円 | BQ91: =IF(AR91="","",VLOOKUP(AR91,$AR$58:$BQ$86,26,FALSE)) | BU91: 千円
A92: 第4希望 | O92: =IF(AI92="","",VLOOKUP(AI92,$F$158:$G$159,2,FALSE)) | Q92: =IF(C92="","",VLOOKUP(C92,$C$58:$Q$86,15,FALSE)) | V92: =IF(C92="","",VLOOKUP(C92,$C$58:$V$86,20,FALSE)) | Z92: 千円 | AB92: =IF(C92="","",VLOOKUP(C92,$C$58:$AB$86,26,FALSE)) | AF92: 千円 | AH92: =IF(C92="","",VLOOKUP(C92,$G$161:$Q$189,11,FALSE)) | AI92: =IF(C92="","",VLOOKUP(C92,$C$58:$AH$86,32,FALSE)) | AJ92: 4 | AP92: 第4希望 | BF92: =IF(AR92="","",VLOOKUP(AR92,$AR$58:$BF$86,15,FALSE)) | BK92: =IF(AR92="","",VLOOKUP(AR92,$AR$58:$BK$86,20,FALSE)) | BO92: 千円 | BQ92: =IF(AR92="","",VLOOKUP(AR92,$AR$58:$BQ$86,26,FALSE)) | BU92: 千円
A93: 第5希望 | O93: =IF(AI93="","",VLOOKUP(AI93,$F$158:$G$159,2,FALSE)) | Q93: =IF(C93="","",VLOOKUP(C93,$C$58:$Q$86,15,FALSE)) | V93: =IF(C93="","",VLOOKUP(C93,$C$58:$V$86,20,FALSE)) | Z93: 千円 | AB93: =IF(C93="","",VLOOKUP(C93,$C$58:$AB$86,26,FALSE)) | AF93: 千円 | AH93: =IF(C93="","",VLOOKUP(C93,$G$161:$Q$189,11,FALSE)) | AI93: =IF(C93="","",VLOOKUP(C93,$C$58:$AH$86,32,FALSE)) | AJ93: 5 | AP93: 第5希望 | BF93: =IF(AR93="","",VLOOKUP(AR93,$AR$58:$BF$86,15,FALSE)) | BK93: =IF(AR93="","",VLOOKUP(AR93,$AR$58:$BK$86,20,FALSE)) | BO93: 千円 | BQ93: =IF(AR93="","",VLOOKUP(AR93,$AR$58:$BQ$86,26,FALSE)) | BU93: 千円
A95: 評点 | F95: Ｘ２ | AA95: 代表者印または受任者印 | AP95: 評点 | AU95: Ｘ２ | AW95: 756 | BP95: 代表者印または受任者印
F96: Ｙ | AU96: Ｙ | AW96: 540
F97: Ｗ | AU97: Ｗ | AW97: 1220
A98: 技 術 職 員 数 | F98: 1級 | L98: 人 | AP98: 技 術 職 員 数 | AU98: 1級 | AW98: 10 | BA98: 人
F99: 2級 | L99: 人 | AU99: 2級 | AW99: 8 | BA99: 人
F100: その他 | L100: 人 | AU100: その他 | AW100: 3 | BA100: 人
A101: 上記の業者カードおよび別紙の常勤技術者名簿の登録申請を致します。 | AP101: 上記の業者カードおよび別紙の常勤技術者名簿の登録申請を致します。
A102: この記載事項は、事実に相違ありません。 | AP102: この記載事項は、事実に相違ありません。
A145: 【選択肢一覧】 | AP145: 【選択肢一覧】
A146: 届出区分 | F146: 1 | G146: 新規 | Q146: 1 | AP146: 届出区分 | AU146: 1 | AV146: 新規 | BF146: 1
F147: 2 | G147: 更新 | Q147: 2 | AU147: 2 | AV147: 更新 | BF147: 2
A149: 本社所在地域 | F149: 1 | G149: 市内 | Q149: 1 | AP149: 本社所在地域 | AU149: 1 | AV149: 市内 | BF149: 1
F150: 2 | G150: 準市内 | Q150: 2 | AU150: 2 | AV150: 準市内 | BF150: 2
F151: 3 | G151: 県内 | Q151: 3 | AU151: 3 | AV151: 県内 | BF151: 3
F152: 4 | G152: 準県内 | Q152: 4 | AU152: 4 | AV152: 準県内 | BF152: 5
F153: 5 | G153: 県外 | Q153: 5 | AU153: 5 | AV153: 県外
A155: 建設業許可の種類 | F155: 1 | G155: 国土交通省大臣 | Q155: 1 | AP155: 建設業許可の種類 | AU155: 1 | AV155: 国土交通省大臣 | BF155: 1
F156: 2 | G156: 知事 | Q156: 2 | AU156: 2 | AV156: 知事 | BF156: 2
A158: 許可区分 | F158: 1 | G158: 一般 | Q158: 1 | AP158: 許可区分 | AU158: 1 | AV158: 一般 | BF158: 1
F159: 2 | G159: 特定 | Q159: 2 | AU159: 2 | AV159: 特定 | BF159: 2
A161: 許可の種類 | F161: 0 | G161: 土木一式 | Q161: 0 | AP161: 許可の種類 | AU161: 0 | AV161: 土木一式 | BF161: 0
F162: 1 | G162: 建築一式 | Q162: 1 | AU162: 1 | AV162: 建築一式 | BF162: 1
F163: 2 | G163: 大工 | Q163: 2 | AU163: 2 | AV163: 大工 | BF163: 2
F164: 3 | G164: 左官 | Q164: 3 | AU164: 3 | AV164: 左官 | BF164: 3
F165: 4 | G165: とび・土工・コンクリート | Q165: 4 | AU165: 4 | AV165: とび・土工・コンクリート | BF165: 4
F166: 5 | G166: 石 | Q166: 5 | AU166: 5 | AV166: 石 | BF166: 5
...

Sheet Inputval
A1: 項目説明1 | B1: 項目説明2 | C1: 区分 | D1: KeyWord1 | E1: KeyWord2 | F1: 値 | G1: 補足 | N1: 対応項目
A2: 業者区分 | B2: 建設、業務、物品 | C2: Info | D2: ORDER_CLASS | F2: =業者カード!AI2 -> 0
A3: バージョン情報 | C3: Info | D3: VERSION | F3: =業者カード!AK4 -> 2026090101
A4: 年度 | C4: Info | D4: YEAR | F4: =業者カード!AJ2 -> 2026
A5: LASDECコード | C5: Info | D5: LASDEC | F5: =業者カード!AI5 -> 18210
A7: 情報 | F7: 値 | G7: 補足
A8: 記入日 | C8: Info | D8: EditDate | F8: =IF(業者カード!AB1="","",業者カード!AB1) -> 46508 | N8: 受付年月日
A9: 届出区分 | C9: Info | D9: NEW_CLASS | F9: =業者カード!AH10 | G9: =業者カード!F10 -> 0
A10: 本社所在地 | C10: Val | D10: MST_SUPPLIER_LIST | E10: SU_AREA | F10: =業者カード!AI10 | G10: =業者カード!T10 -> 0 | N10: 地域
A11: 業者番号 | C11: Val | D11: MST_SUPPLIER_LIST | E11: SU_CODE | F11: =IF(業者カード!F7="","",業者カード!F7)
A12: 法人番号 | C12: Val | D12: MST_SUPPLIER_LIST | E12: SU_CORPORATE_NO | F12: =IF(F13=1,IF(業者カード!F9="","",業者カード!AI9),IF(業者カード!F8="","",業者カード!AH8))
A13: インボイス登録番号 | C13: Val | D13: MST_SUPPLIER_LIST | E13: FlgIsInvoiceNo | F13: =業者カード!AH9 -> 0
A15: 申請者(本社) | N15: 本社情報
A16: 法人名 | C16: Info | D16: MST_SUPPLIER_LIST | F16: =業者カード!AH14 | N16: 商号に法人名を付与する
A17: 商号 | C17: Val | D17: MST_SUPPLIER_LIST | E17: SU_NAME | F17: =IF(業者カード!O14="","",業者カード!AH14) | N17: 商号又は名称
A18: 商号カナ | C18: Val | D18: MST_SUPPLIER_LIST | E18: SU_NAME_PRONOUNCE | F18: =IF(業者カード!O13="","",業者カード!AH13) | N18: フリガナ
A19: 郵便番号 | C19: Val | D19: MST_SUPPLIER_LIST | E19: SU_ZIP | F19: =IF(業者カード!AH15="","",業者カード!AH15) | N19: 郵便番号
A20: 所在地又は住所 | C20: Val | D20: MST_SUPPLIER_LIST | E20: SU_ADDRESS | F20: =IF(業者カード!AH16="","",業者カード!AH16) | N20: 所在地又は住所
A21: 代表者 | B21: 役職 | C21: Val | D21: MST_SUPPLIER_LIST | E21: SU_TOP_POST | F21: =IF(業者カード!H20="","",業者カード!H20) | N21: 役職
B22: 氏名 | C22: Val | D22: MST_SUPPLIER_LIST | E22: SU_TOP_NAME | F22: =IF(業者カード!Q20="","",業者カード!Q20) | N22: 氏名
B23: フリガナ | C23: Val | D23: MST_SUPPLIER_LIST | E23: SU_TOP_NAME_PRONOUNCE | F23: =IF(業者カード!Q19="","",業者カード!Q19) | N23: フリガナ
A24: 電話番号 | C24: Val | D24: MST_SUPPLIER_LIST | E24: SU_TEL | F24: =IF(業者カード!F21="","",業者カード!F21) | N24: 電話番号
A25: FAX番号 | C25: Val | D25: MST_SUPPLIER_LIST | E25: SU_FAX | F25: =IF(業者カード!F22="","",業者カード!F22) | N25: FAX番号
A26: メールアドレス | C26: Val | D26: MST_SUPPLIER_LIST | E26: SU_MAIL | F26: =IF(業者カード!F23="","",業者カード!F23) | N26: メールアドレス
A28: 営業所 | N28: 営業所情報
A29: 名称 | C29: Val | D29: MST_SUPPLIER_LIST | E29: SU_BRANCH_NAME | F29: =IF(業者カード!Q27="","",業者カード!AH27) | N29: 名称
A30: カナ | C30: Val | D30: MST_SUPPLIER_LIST | E30: SU_BRANCH_NAME_PRONOUNCE | F30: =IF(業者カード!Q26="","",業者カード!AH26) | N30: フリガナ
A31: 郵便番号 | C31: Val | D31: MST_SUPPLIER_LIST | E31: SU_BRANCH_ZIP | F31: =IF(業者カード!AH28="","",業者カード!AH28) | N31: 郵便番号
A32: 所在地又は住所 | C32: Val | D32: MST_SUPPLIER_LIST | E32: SU_BRANCH_ADDRESS | F32: =IF(業者カード!AH29="","",業者カード!AH29) | N32: 所在地又は住所
A33: 代表者 | B33: 役職 | C33: Val | D33: MST_SUPPLIER_LIST | E33: SU_BRANCH_TOP_POST | F33: =IF(業者カード!H33="","",業者カード!H33) | N33: 役職
B34: 氏名 | C34: Val | D34: MST_SUPPLIER_LIST | E34: SU_BRANCH_TOP_NAME | F34: =IF(業者カード!Q33="","",業者カード!Q33) | N34: 氏名
B35: フリガナ | C35: Val | D35: MST_SUPPLIER_LIST | E35: SU_BRANCH_TOP_NAME_PRONOUNCE | F35: =IF(業者カード!Q32="","",業者カード!Q32) | N35: フリガナ
A36: 電話番号 | C36: Val | D36: MST_SUPPLIER_LIST | E36: SU_BRANCH_TEL | F36: =IF(業者カード!F34="","",業者カード!F34) | N36: 電話番号
A37: FAX番号 | C37: Val | D37: MST_SUPPLIER_LIST | E37: SU_BRANCH_FAX | F37: =IF(業者カード!F35="","",業者カード!F35) | N37: FAX番号
A38: メールアドレス | C38: Val | D38: MST_SUPPLIER_LIST | E38: SU_BRANCH_MAIL | F38: =IF(業者カード!F36="","",業者カード!F36) | N38: メールアドレス
N40: 本社情報
A41: 資本金 | C41: Val | D41: MST_SUPPLIER_LIST | E41: SU_CAPITAL | F41: =IF(業者カード!F38="","",業者カード!F38) | N41: 資本金
A42: 自己資本金 | C42: Val | D42: MST_SUPPLIER_LIST | E42: SU_OWNER_CAPITAL | F42: =IF(業者カード!W38="","",業者カード!W38) | N42: 自己資本金
A43: 設立登記年月日 | C43: Val | D43: MST_SUPPLIER_LIST | E43: SU_REGIST_DATE | F43: =IF(業者カード!F39="","",業者カード!F39) | N43: 設立登記年月日
A44: 営業年数 | C44: Val | D44: MST_SUPPLIER_LIST | E44: SU_BUSINESS_YEARS | F44: =IF(業者カード!U39="","",業者カード!U39) | N44: 営業年数
A45: 従業員数 | C45: Val | D45: MST_SUPPLIER_LIST | E45: SU_STAFF_NUM | F45: =IF(業者カード!AC39="","",業者カード!AC39) | N45: 従業員数
A47: 問い合わせ先 | N47: 問合せ先
A48: 部署 | C48: Val | D48: MST_SUPPLIER_LIST | E48: SU_CHARGE_SECTION | F48: =IF(業者カード!H43="","",業者カード!H43) | N48: 部署
A49: 氏名 | C49: Val | D49: MST_SUPPLIER_LIST | E49: SU_CHARGE_NAME | F49: =IF(業者カード!Q43="","",業者カード!Q43) | N49: 氏名
A50: カナ | C50: Val | D50: MST_SUPPLIER_LIST | E50: SU_CHARGE_NAME_PRONOUNCE | F50: =IF(業者カード!Q42="","",業者カード!Q42) | N50: フリガナ
A51: 電話番号 | C51: Val | D51: MST_SUPPLIER_LIST | E51: SU_CHARGE_TEL | F51: =IF(業者カード!F44="","",業者カード!F44) | N51: 電話番号
A52: FAX番号 | C52: Val | D52: MST_SUPPLIER_LIST | E52: SU_CHARGE_FAX | F52: =IF(業者カード!F45="","",業者カード!F45) | N52: FAX番号
A53: メールアドレス | C53: Val | D53: MST_SUPPLIER_LIST | E53: SU_CHARGE_MAIL | F53: =IF(業者カード!F46="","",業者カード!F46) | N53: メールアドレス
A58: 建設業の許可状況（経審情報） | F58: 値 | G58: 補足 | N58: 入札参加資格情報
A59: 建設業許可の種類 | C59: Val | D59: MST_SUPPLIER_KENSETSU_INFO | E59: SU_PERMIT_KIND1 | F59: =IF(業者カード!AH50="","",業者カード!AH50) | G59: =業者カード!G50 -> 0 | N59: 建設業許可番号
A60: 許可番号 | C60: Val | D60: MST_SUPPLIER_KENSETSU_INFO | E60: SU_PERMIT_NUM1 | F60: =IF(業者カード!T50="","",業者カード!T50) | N60: 第 号
A61: 許可年月日 | C61: Val | D61: MST_SUPPLIER_KENSETSU_INFO | E61: SU_PERMIT_DATE1 | F61: =IF(業者カード!AB50="","",業者カード!AB50) | N61: 許可年月日
A62: 建設業許可の種類 | C62: Val_Disable | D62: MST_SUPPLIER_KENSETSU_INFO | F62: =IF(業者カード!#REF!="","",業者カード!#REF!) -> #REF! | G62: =業者カード!#REF! -> #REF! | N62: 未使用
A63: 許可番号 | C63: Val_Disable | D63: MST_SUPPLIER_KENSETSU_INFO | F63: =IF(業者カード!#REF!="","",業者カード!#REF!) -> #REF! | N63: 未使用
A64: 許可年月日 | C64: Val_Disable | D64: MST_SUPPLIER_KENSETSU_INFO | F64: =IF(業者カード!#REF!="","",業者カード!#REF!) -> #REF! | N64: 未使用
A66: 審査基準日 | C66: Val | D66: MST_SUPPLIER_KENSETSU_INFO | E66: SU_EXAMINE_DATE | F66: =IF(業者カード!F52="","",業者カード!F52) | N66: 審査基準日
A67: 完成工事高合計(千円) | C67: Val | D67: MST_SUPPLIER_KENSETSU_INFO | E67: SU_FINISH_CONSTRUCT_COST | F67: =IF(業者カード!X52="","",業者カード!X52) | N67: 未使用
A72: 許可の種類 | F72: 許可区分 | G72: 総合評定値(P) | H72: 完成工事高 | I72: 元請完成工事高 | J72: 希望順位 | N72: 入札参加資格情報
C73: Table | D73: MST_SUPPLIER_KENSETSU_KIND | E73: SU_KIND_ID | F73: SU_KIND_DIVIDE | G73: SU_KIND_MARKS | H73: SU_KIND_AVG | I73: SU_KIND_AVG2 | J73: SU_KIND_REQUEST
A74: 土木一式 | C74: TableVal | D74: MST_SUPPLIER_KENSETSU_KIND | E74: 0 | F74: =業者カード!AH58 -> 1 | G74: =業者カード!Q58 -> 0 | H74: =業者カード!V58 -> 0 | I74: =業者カード!AB58 -> 0 | J74: =VLOOKUP(E74,業者カード!$AH$89:$AJ$93,3,FALSE) -> #N/A
A75: 建築一式 | C75: TableVal | D75: MST_SUPPLIER_KENSETSU_KIND | E75: 1 | F75: =業者カード!AH59 | G75: =業者カード!Q59 -> 0 | H75: =業者カード!V59 -> 0 | I75: =業者カード!AB59 -> 0 | J75: =VLOOKUP(E75,業者カード!$AH$89:$AJ$93,3,FALSE) -> #N/A
A76: 大工 | C76: TableVal | D76: MST_SUPPLIER_KENSETSU_KIND | E76: 2 | F76: =業者カード!AH60 -> 2 | G76: =業者カード!Q60 -> 0 | H76: =業者カード!V60 -> 0 | I76: =業者カード!AB60 -> 0 | J76: =VLOOKUP(E76,業者カード!$AH$89:$AJ$93,3,FALSE) -> #N/A
A77: 左官 | C77: TableVal | D77: MST_SUPPLIER_KENSETSU_KIND | E77: 3 | F77: =業者カード!AH61 -> 2 | G77: =業者カード!Q61 -> 0 | H77: =業者カード!V61 -> 0 | I77: =業者カード!AB61 -> 0 | J77: =VLOOKUP(E77,業者カード!$AH$89:$AJ$93,3,FALSE) -> #N/A
A78: とび・土工・コンクリート | C78: TableVal | D78: MST_SUPPLIER_KENSETSU_KIND | E78: 4 | F78: =業者カード!AH62 | G78: =業者カード!Q62 -> 0 | H78: =業者カード!V62 -> 0 | I78: =業者カード!AB62 -> 0 | J78: =VLOOKUP(E78,業者カード!$AH$89:$AJ$93,3,FALSE) -> #N/A
A79: 石 | C79: TableVal | D79: MST_SUPPLIER_KENSETSU_KIND | E79: 5 | F79: =業者カード!AH63 | G79: =業者カード!Q63 -> 0 | H79: =業者カード!V63 -> 0 | I79: =業者カード!AB63 -> 0 | J79: =VLOOKUP(E79,業者カード!$AH$89:$AJ$93,3,FALSE) -> #N/A
A80: 屋根 | C80: TableVal | D80: MST_SUPPLIER_KENSETSU_KIND | E80: 6 | F80: =業者カード!AH64 | G80: =業者カード!Q64 -> 0 | H80: =業者カード!V64 -> 0 | I80: =業者カード!AB64 -> 0 | J80: =VLOOKUP(E80,業者カード!$AH$89:$AJ$93,3,FALSE) -> #N/A
A81: 電気 | C81: TableVal | D81: MST_SUPPLIER_KENSETSU_KIND | E81: 7 | F81: =業者カード!AH65 | G81: =業者カード!Q65 -> 0 | H81: =業者カード!V65 -> 0 | I81: =業者カード!AB65 -> 0 | J81: =VLOOKUP(E81,業者カード!$AH$89:$AJ$93,3,FALSE) -> #N/A
A82: 管 | C82: TableVal | D82: MST_SUPPLIER_KENSETSU_KIND | E82: 8 | F82: =業者カード!AH66 | G82: =業者カード!Q66 -> 0 | H82: =業者カード!V66 -> 0 | I82: =業者カード!AB66 -> 0 | J82: =VLOOKUP(E82,業者カード!$AH$89:$AJ$93,3,FALSE) -> #N/A
A83: タイル・レンガ・ブロック | C83: TableVal | D83: MST_SUPPLIER_KENSETSU_KIND | E83: 9 | F83: =業者カード!AH67 | G83: =業者カード!Q67 -> 0 | H83: =業者カード!V67 -> 0 | I83: =業者カード!AB67 -> 0 | J83: =VLOOKUP(E83,業者カード!$AH$89:$AJ$93,3,FALSE) -> #N/A
A84: 鋼構造物 | C84: TableVal | D84: MST_SUPPLIER_KENSETSU_KIND | E84: 10 | F84: =業者カード!AH68 | G84: =業者カード!Q68 -> 0 | H84: =業者カード!V68 -> 0 | I84: =業者カード!AB68 -> 0 | J84: =VLOOKUP(E84,業者カード!$AH$89:$AJ$93,3,FALSE) -> #N/A
A85: 鉄筋 | C85: TableVal | D85: MST_SUPPLIER_KENSETSU_KIND | E85: 11 | F85: =業者カード!AH69 | G85: =業者カード!Q69 -> 0 | H85: =業者カード!V69 -> 0 | I85: =業者カード!AB69 -> 0 | J85: =VLOOKUP(E85,業者カード!$AH$89:$AJ$93,3,FALSE) -> #N/A
... A102: 解体工事 | C102: TableVal | D102: MST_SUPPLIER_KENSETSU_KIND | E102: 28 | F102: =業者カード!AH86 | G102: =業者カード!Q86 -> 0 | H102: =業者カード!V86 -> 0 | I102: =業者カード!AB86 -> 0 | J102: =VLOOKUP(E102,業者カード!$AH$89:$AJ$93,3,FALSE) -> #N/A
A112: 入札参加希望工種 | F112: 工種ID | N112: 入札参加資格情報
A113: 第1希望 | F113: =業者カード!AH89 | G113: =業者カード!C89 -> 0 | N113: 入札希望
A114: 第2希望 | F114: =業者カード!AH90 | G114: =業者カード!C90 -> 0 | N114: 〃
A115: 第3希望 | F115: =業者カード!AH91 | G115: =業者カード!C91 -> 0 | N115: 〃
A116: 第4希望 | F116: =業者カード!AH92 | G116: =業者カード!C92 -> 0 | N116: 〃
A117: 第5希望 | F117: =業者カード!AH93 | G117: =業者カード!C93 -> 0 | N117: 〃
A122: 評点 | F122: 値 | G122: 補足 | N122: 入札参加資格情報
A123: 評点（Ｘ２） | C123: Val | D123: MST_SUPPLIER_KENSETSU_INFO | E123: SU_RATING_X2 | F123: =IF(業者カード!H95="","",業者カード!H95) | N123: 評点（Ｘ２）
A124: 評点（Ｙ） | C124: Val | D124: MST_SUPPLIER_KENSETSU_INFO | E124: SU_RATING_Y | F124: =IF(業者カード!H96="","",業者カード!H96) | N124: 評点（Ｙ）
A125: 評点（Ｗ） | C125: Val | D125: MST_SUPPLIER_KENSETSU_INFO | E125: SU_RATING_W | F125: =IF(業者カード!H97="","",業者カード!H97) | N125: 評点（Ｗ）
A127: 技 術 職 員 数 | F127: 値 | G127: 補足 | N127: 入札参加資格情報
A128: 1級 | C128: Val | D128: MST_SUPPLIER_KENSETSU_INFO | E128: SU_STAFF1 | F128: =IF(業者カード!H98="","",業者カード!H98) | N128: 一級合計
A129: 2級 | C129: Val | D129: MST_SUPPLIER_KENSETSU_INFO | E129: SU_STAFF2 | F129: =IF(業者カード!H99="","",業者カード!H99) | N129: 二級合計
A130: 3級 | C130: Val | D130: MST_SUPPLIER_KENSETSU_INFO | E130: SU_STAFF_OTHERS | F130: =IF(業者カード!H100="","",業者カード!H100) | N130: その他合計
C131: [END]

Sheet InputvalEng
A1: 項目説明1 | B1: 項目説明2 | C1: 区分 | D1: KeyWord1 | E1: KeyWord2 | F1: 値 | G1: 氏名 | H1: フリガナ | I1: 生年月日 | J1: 資格１ | K1: 資格２ | L1: 資格３ | M1: 資格４ | N1: 資格交付番号 | R1: 監理技術者区分 | S1: 監理技術者証番号 | T1: 監理技術者交付日 | U1: 監理技術者有効期限 | V1: 経営管理責任者 | W1: 専任技術者
A3: 技術者名簿 | F3: 編集タイプ | J3: 有資格区分 | N3: 資格交付番号
G4: =IF(#REF!="","",#REF!) -> #REF! | J4: 1 | K4: 2 | L4: 3 | M4: 4 | N4: 1 | O4: 2 | P4: 3 | Q4: 4 | R4: 監理技術者区分 | S4: 監理技術者証番号 | T4: 監理技術者交付日 | U4: 監理技術者有効期限 | V4: 経営管理責任者 | W4: 専任技術者
B6: 対象行 | C6: Table | D6: MST_SUPPLIER_KENSETSU_ENGINEER | E6: GJS_ID | F6: #Judge | G6: GJS_NAME | H6: GJS_KANA | I6: GJS_SEINENGAPPI | J6: GJS_YUSIKAKU01 | K6: GJS_YUSIKAKU02 | L6: GJS_YUSIKAKU03 | M6: GJS_YUSIKAKU04 | N6: #YUSIKAKU_NO01 | O6: #YUSIKAKU_NO02 | P6: #YUSIKAKU_NO03 | Q6: #YUSIKAKU_NO04 | R6: GJS_KANRI_KUBUN | S6: GJS_KNRGJS_CD | T6: GJS_KNRGJS_KOUFU_DATE | U6: GJS_KNRGJS_YUKOU_DATE | V6: GJS_KEIEI_KUBUN | W6: GJS_SENNIN_KUBUN
A7: 1人目 | B7: 6 | C7: TableVal | D7: MST_SUPPLIER_KENSETSU_ENGINEER | E7: 1 | F7: =IF(#REF!="","",1) -> #REF! | G7: =IF(#REF!="","",#REF!) -> #REF! | H7: =IF(#REF!="","",#REF!) -> #REF! | I7: =IF(#REF!="","",#REF!) -> #REF! | J7: =IF(#REF!="","",#REF!) -> #REF! | K7: =IF(#REF!="","",#REF!) -> #REF! | L7: =IF(#REF!="","",#REF!) -> #REF! | M7: =IF(#REF!="","",#REF!) -> #REF! | N7: =IF(#REF!="","",#REF!) -> #REF! | ... Q7: =IF(#REF!="","",#REF!) -> #REF! | R7: =IF(S7<>"",1,"") -> #REF! | S7: =IF(#REF!="","",#REF!) -> #REF! | T7: =IF(#REF!="","",#REF!) -> #REF! | U7: =IF(#REF!="","",#REF!) -> #REF! | V7: =IF(#REF!="○",1,"") -> #REF! | W7: =IF(#REF!="○",1,"") -> #REF!
A8: 2人目 | B8: =B7+4 -> 10 | C8: TableVal | D8: MST_SUPPLIER_KENSETSU_ENGINEER | E8: 2 | F8: =IF(#REF!="","",1) -> #REF! | G8: =IF(#REF!="","",#REF!) -> #REF! | H8: =IF(#REF!="","",#REF!) -> #REF! | I8: =IF(#REF!="","",#REF!) -> #REF! | J8: =IF(#REF!="","",#REF!) -> #REF! | K8: =IF(#REF!="","",#REF!) -> #REF! | L8: =IF(#REF!="","",#REF!) -> #REF! | M8: =IF(#REF!="","",#REF!) -> #REF! | N8: =IF(#REF!="","",#REF!) -> #REF! | ... Q8: =IF(#REF!="","",#REF!) -> #REF! | R8: =IF(S8<>"",1,"") -> #REF! | S8: =IF(#REF!="","",#REF!) -> #REF! | T8: =IF(#REF!="","",#REF!) -> #REF! | U8: =IF(#REF!="","",#REF!) -> #REF! | V8: =IF(#REF!="○",1,"") -> #REF! | W8: =IF(#REF!="○",1,"") -> #REF!
A9: 3人目 | B9: =B8+4 -> 14 | C9: TableVal | D9: MST_SUPPLIER_KENSETSU_ENGINEER | E9: 3 | F9: =IF(#REF!="","",1) -> #REF! | G9: =IF(#REF!="","",#REF!) -> #REF! | H9: =IF(#REF!="","",#REF!) -> #REF! | I9: =IF(#REF!="","",#REF!) -> #REF! | J9: =IF(#REF!="","",#REF!) -> #REF! | K9: =IF(#REF!="","",#REF!) -> #REF! | L9: =IF(#REF!="","",#REF!) -> #REF! | M9: =IF(#REF!="","",#REF!) -> #REF! | N9: =IF(#REF!="","",#REF!) -> #REF! | ... Q9: =IF(#REF!="","",#REF!) -> #REF! | R9: =IF(S9<>"",1,"") -> #REF! | S9: =IF(#REF!="","",#REF!) -> #REF! | T9: =IF(#REF!="","",#REF!) -> #REF! | U9: =IF(#REF!="","",#REF!) -> #REF! | V9: =IF(#REF!="○",1,"") -> #REF! | W9: =IF(#REF!="○",1,"") -> #REF!
A10: 4人目 | B10: =B9+4 -> 18 | C10: TableVal | D10: MST_SUPPLIER_KENSETSU_ENGINEER | E10: 4 | F10: =IF(#REF!="","",1) -> #REF! | G10: =IF(#REF!="","",#REF!) -> #REF! | H10: =IF(#REF!="","",#REF!) -> #REF! | I10: =IF(#REF!="","",#REF!) -> #REF! | J10: =IF(#REF!="","",#REF!) -> #REF! | K10: =IF(#REF!="","",#REF!) -> #REF! | L10: =IF(#REF!="","",#REF!) -> #REF! | M10: =IF(#REF!="","",#REF!) -> #REF! | N10: =IF(#REF!="","",#REF!) -> #REF! | ... Q10: =IF(#REF!="","",#REF!) -> #REF! | R10: =IF(S10<>"",1,"") -> #REF! | S10: =IF(#REF!="","",#REF!) -> #REF! | T10: =IF(#REF!="","",#REF!) -> #REF! | U10: =IF(#REF!="","",#REF!) -> #REF! | V10: =IF(#REF!="○",1,"") -> #REF! | W10: =IF(#REF!="○",1,"") -> #REF!
A11: 5人目 | B11: =B10+4 -> 22 | C11: TableVal | D11: MST_SUPPLIER_KENSETSU_ENGINEER | E11: 5 | F11: =IF(#REF!="","",1) -> #REF! | G11: =IF(#REF!="","",#REF!) -> #REF! | H11: =IF(#REF!="","",#REF!) -> #REF! | I11: =IF(#REF!="","",#REF!) -> #REF! | J11: =IF(#REF!="","",#REF!) -> #REF! | K11: =IF(#REF!="","",#REF!) -> #REF! | L11: =IF(#REF!="","",#REF!) -> #REF! | M11: =IF(#REF!="","",#REF!) -> #REF! | N11: =IF(#REF!="","",#REF!) -> #REF! | ... Q11: =IF(#REF!="","",#REF!) -> #REF! | R11: =IF(S11<>"",1,"") -> #REF! | S11: =IF(#REF!="","",#REF!) -> #REF! | T11: =IF(#REF!="","",#REF!) -> #REF! | U11: =IF(#REF!="","",#REF!) -> #REF! | V11: =IF(#REF!="○",1,"") -> #REF! | W11: =IF(#REF!="○",1,"") -> #REF!
A12: 6人目 | B12: =B11+4 -> 26 | C12: TableVal | D12: MST_SUPPLIER_KENSETSU_ENGINEER | E12: 6 | F12: =IF(#REF!="","",1) -> #REF! | G12: =IF(#REF!="","",#REF!) -> #REF! | H12: =IF(#REF!="","",#REF!) -> #REF! | I12: =IF(#REF!="","",#REF!) -> #REF! | J12: =IF(#REF!="","",#REF!) -> #REF! | K12: =IF(#REF!="","",#REF!) -> #REF! | L12: =IF(#REF!="","",#REF!) -> #REF! | M12: =IF(#REF!="","",#REF!) -> #REF! | N12: =IF(#REF!="","",#REF!) -> #REF! | ... Q12: =IF(#REF!="","",#REF!) -> #REF! | R12: =IF(S12<>"",1,"") -> #REF! | S12: =IF(#REF!="","",#REF!) -> #REF! | T12: =IF(#REF!="","",#REF!) -> #REF! | U12: =IF(#REF!="","",#REF!) -> #REF! | V12: =IF(#REF!="○",1,"") -> #REF! | W12: =IF(#REF!="○",1,"") -> #REF!
A13: 7人目 | B13: =B12+4 -> 30 | C13: TableVal | D13: MST_SUPPLIER_KENSETSU_ENGINEER | E13: 7 | F13: =IF(#REF!="","",1) -> #REF! | G13: =IF(#REF!="","",#REF!) -> #REF! | H13: =IF(#REF!="","",#REF!) -> #REF! | I13: =IF(#REF!="","",#REF!) -> #REF! | J13: =IF(#REF!="","",#REF!) -> #REF! | K13: =IF(#REF!="","",#REF!) -> #REF! | L13: =IF(#REF!="","",#REF!) -> #REF! | M13: =IF(#REF!="","",#REF!) -> #REF! | N13: =IF(#REF!="","",#REF!) -> #REF! | ... Q13: =IF(#REF!="","",#REF!) -> #REF! | R13: =IF(S13<>"",1,"") -> #REF! | S13: =IF(#REF!="","",#REF!) -> #REF! | T13: =IF(#REF!="","",#REF!) -> #REF! | U13: =IF(#REF!="","",#REF!) -> #REF! | V13: =IF(#REF!="○",1,"") -> #REF! | W13: =IF(#REF!="○",1,"") -> #REF!
A14: 8人目 | B14: =B13+4 -> 34 | C14: TableVal | D14: MST_SUPPLIER_KENSETSU_ENGINEER | E14: 8 | F14: =IF(#REF!="","",1) -> #REF! | G14: =IF(#REF!="","",#REF!) -> #REF! | H14: =IF(#REF!="","",#REF!) -> #REF! | I14: =IF(#REF!="","",#REF!) -> #REF! | J14: =IF(#REF!="","",#REF!) -> #REF! | K14: =IF(#REF!="","",#REF!) -> #REF! | L14: =IF(#REF!="","",#REF!) -> #REF! | M14: =IF(#REF!="","",#REF!) -> #REF! | N14: =IF(#REF!="","",#REF!) -> #REF! | ... Q14: =IF(#REF!="","",#REF!) -> #REF! | R14: =IF(S14<>"",1,"") -> #REF! | S14: =IF(#REF!="","",#REF!) -> #REF! | T14: =IF(#REF!="","",#REF!) -> #REF! | U14: =IF(#REF!="","",#REF!) -> #REF! | V14: =IF(#REF!="○",1,"") -> #REF! | W14: =IF(#REF!="○",1,"") -> #REF!
A15: 9人目 | B15: =B14+4 -> 38 | C15: TableVal | D15: MST_SUPPLIER_KENSETSU_ENGINEER | E15: 9 | F15: =IF(#REF!="","",1) -> #REF! | G15: =IF(#REF!="","",#REF!) -> #REF! | H15: =IF(#REF!="","",#REF!) -> #REF! | I15: =IF(#REF!="","",#REF!) -> #REF! | J15: =IF(#REF!="","",#REF!) -> #REF! | K15: =IF(#REF!="","",#REF!) -> #REF! | L15: =IF(#REF!="","",#REF!) -> #REF! | M15: =IF(#REF!="","",#REF!) -> #REF! | N15: =IF(#REF!="","",#REF!) -> #REF! | ... Q15: =IF(#REF!="","",#REF!) -> #REF! | R15: =IF(S15<>"",1,"") -> #REF! | S15: =IF(#REF!="","",#REF!) -> #REF! | T15: =IF(#REF!="","",#REF!) -> #REF! | U15: =IF(#REF!="","",#REF!) -> #REF! | V15: =IF(#REF!="○",1,"") -> #REF! | W15: =IF(#REF!="○",1,"") -> #REF!
A16: 10人目 | B16: =B15+4 -> 42 | C16: TableVal | D16: MST_SUPPLIER_KENSETSU_ENGINEER | E16: 10 | F16: =IF(#REF!="","",1) -> #REF! | G16: =IF(#REF!="","",#REF!) -> #REF! | H16: =IF(#REF!="","",#REF!) -> #REF! | I16: =IF(#REF!="","",#REF!) -> #REF! | J16: =IF(#REF!="","",#REF!) -> #REF! | K16: =IF(#REF!="","",#REF!) -> #REF! | L16: =IF(#REF!="","",#REF!) -> #REF! | M16: =IF(#REF!="","",#REF!) -> #REF! | N16: =IF(#REF!="","",#REF!) -> #REF! | ... Q16: =IF(#REF!="","",#REF!) -> #REF! | R16: =IF(S16<>"",1,"") -> #REF! | S16: =IF(#REF!="","",#REF!) -> #REF! | T16: =IF(#REF!="","",#REF!) -> #REF! | U16: =IF(#REF!="","",#REF!) -> #REF! | V16: =IF(#REF!="○",1,"") -> #REF! | W16: =IF(#REF!="○",1,"") -> #REF!
A17: 11人目 | B17: =B16+4 -> 46 | C17: TableVal | D17: MST_SUPPLIER_KENSETSU_ENGINEER | E17: 11 | F17: =IF(#REF!="","",1) -> #REF! | G17: =IF(#REF!="","",#REF!) -> #REF! | H17: =IF(#REF!="","",#REF!) -> #REF! | I17: =IF(#REF!="","",#REF!) -> #REF! | J17: =IF(#REF!="","",#REF!) -> #REF! | K17: =IF(#REF!="","",#REF!) -> #REF! | L17: =IF(#REF!="","",#REF!) -> #REF! | M17: =IF(#REF!="","",#REF!) -> #REF! | N17: =IF(#REF!="","",#REF!) -> #REF! | ... Q17: =IF(#REF!="","",#REF!) -> #REF! | R17: =IF(S17<>"",1,"") -> #REF! | S17: =IF(#REF!="","",#REF!) -> #REF! | T17: =IF(#REF!="","",#REF!) -> #REF! | U17: =IF(#REF!="","",#REF!) -> #REF! | V17: =IF(#REF!="○",1,"") -> #REF! | W17: =IF(#REF!="○",1,"") -> #REF!
A18: 12人目 | B18: =B17+4 -> 50 | C18: TableVal | D18: MST_SUPPLIER_KENSETSU_ENGINEER | E18: 12 | F18: =IF(#REF!="","",1) -> #REF! | G18: =IF(#REF!="","",#REF!) -> #REF! | H18: =IF(#REF!="","",#REF!) -> #REF! | I18: =IF(#REF!="","",#REF!) -> #REF! | J18: =IF(#REF!="","",#REF!) -> #REF! | K18: =IF(#REF!="","",#REF!) -> #REF! | L18: =IF(#REF!="","",#REF!) -> #REF! | M18: =IF(#REF!="","",#REF!) -> #REF! | N18: =IF(#REF!="","",#REF!) -> #REF! | ... Q18: =IF(#REF!="","",#REF!) -> #REF! | R18: =IF(S18<>"",1,"") -> #REF! | S18: =IF(#REF!="","",#REF!) -> #REF! | T18: =IF(#REF!="","",#REF!) -> #REF! | U18: =IF(#REF!="","",#REF!) -> #REF! | V18: =IF(#REF!="○",1,"") -> #REF! | W18: =IF(#REF!="○",1,"") -> #REF!
A19: 13人目 | B19: =B18+4 -> 54 | C19: TableVal | D19: MST_SUPPLIER_KENSETSU_ENGINEER | E19: 13 | F19: =IF(#REF!="","",1) -> #REF! | G19: =IF(#REF!="","",#REF!) -> #REF! | H19: =IF(#REF!="","",#REF!) -> #REF! | I19: =IF(#REF!="","",#REF!) -> #REF! | J19: =IF(#REF!="","",#REF!) -> #REF! | K19: =IF(#REF!="","",#REF!) -> #REF! | L19: =IF(#REF!="","",#REF!) -> #REF! | M19: =IF(#REF!="","",#REF!) -> #REF! | N19: =IF(#REF!="","",#REF!) -> #REF! | ... Q19: =IF(#REF!="","",#REF!) -> #REF! | R19: =IF(S19<>"",1,"") -> #REF! | S19: =IF(#REF!="","",#REF!) -> #REF! | T19: =IF(#REF!="","",#REF!) -> #REF! | U19: =IF(#REF!="","",#REF!) -> #REF! | V19: =IF(#REF!="○",1,"") -> #REF! | W19: =IF(#REF!="○",1,"") -> #REF!
... A156: 150人目 | B156: =B155+4 -> 602 | C156: TableVal | D156: MST_SUPPLIER_KENSETSU_ENGINEER | E156: 150 | F156: =IF(#REF!="","",1) -> #REF! | G156: =IF(#REF!="","",#REF!) -> #REF! | H156: =IF(#REF!="","",#REF!) -> #REF! | I156: =IF(#REF!="","",#REF!) -> #REF! | J156: =IF(#REF!="","",#REF!) -> #REF! | K156: =IF(#REF!="","",#REF!) -> #REF! | L156: =IF(#REF!="","",#REF!) -> #REF! | M156: =IF(#REF!="","",#REF!) -> #REF! | N156: =IF(#REF!="","",#REF!) -> #REF! | ... Q156: =IF(#REF!="","",#REF!) -> #REF! | R156: =IF(S156<>"",1,"") -> #REF! | S156: =IF(#REF!="","",#REF!) -> #REF! | T156: =IF(#REF!="","",#REF!) -> #REF! | U156: =IF(#REF!="","",#REF!) -> #REF! | V156: =IF(#REF!="○",1,"") -> #REF! | W156: =IF(#REF!="○",1,"") -> #REF!
