Workbook
Name 許可の区分: #REF!
Name 許可の区分: #REF!
Name 届出区分: #REF!
Name 届出区分: #REF!

Sheet 業者カード
A1: 坂井市 | E1: ="["&TEXT(AI3,"ggge年m月d日")&"改訂]" -> [令和8年9月1日改訂] | AB1: 46508 | AH1: 【取込み用計算式】 | AP1: =IF(A1="","",A1) -> 坂井市 | AT1: ="["&TEXT(AI3,"ggge年m月d日")&"改訂]" -> [令和8年9月1日改訂]
AH2: CLASS | AI2: 1 | AJ2: 2026
A3: 業者カード (測量・建設コンサルタント) | AH3: UPDATE | AI3: 46266 | AP3: 業者カード (測量・建設コンサルタント)
AH4: VERSION | AI4: =TEXT(AI3,"yyyyMMdd") -> 20260901 | AJ4: 1 | AK4: =AI4&TEXT(AJ4,"00") -> 2026090101
A5: ※太枠箇所を記入してください。 | AH5: LASDEC | AI5: 18210 | AP5: ※太枠箇所を記入してください。
A6: 申請年度 | F6: 令和９・１０年度 | AP6: 申請年度 | AU6: =IF(F6="","",F6) -> 令和９・１０年度
A7: 業者番号 | AH7: =RIGHT("00000"&F7,5) -> 00000 | AP7: 業者番号 | AU7: 坂井市入力
A8: 法人番号 | AH8: =RIGHT("0000000000000"&F8,13) -> 0000000000000 | AP8: 法人番号 | AU8: 01234567890002
A9: インボイス 登録番号 | F9: T | AH9: =IF(G9<>"",1,0) -> 0 | AI9: =RIGHT("0000000000000"&G9,13) -> 0000000000000 | AP9: インボイス 登録番号 | AU9: T | AV9: 0123456789002
A10: 届出区分 | O10: 本社又は委任先の所在地 | AH10: =IF(F10="","",VLOOKUP(F10,G191:Q192,11,FALSE)) | AI10: =IF(T10="","",VLOOKUP(T10,G195:Q199,11,FALSE)) | AP10: 届出区分 | AU10: 新規 | BD10: 本社又は委任先の所在地 | BI10: 市内
A12: 申請者(本社) | AP12: 登録する営業所（本社または委任された営業所）
A13: フリガナ | AH13: =IF(O13="","",O13) | AP13: フリガナ | BD13: サンプルソクリョウ
A14: 商号又は名称 | F14: 法人名 | M14: 商号 | AH14: =AJ14&O14&AK14 | AI14: =IF(I14="","",VLOOKUP(I14,G202:Q210,11,FALSE)) | AJ14: =IF(I14="","",IF(LEFT(I14,1)="前",VLOOKUP(I14,G202:S210,13,FALSE),"")) | AK14: =IF(I14="","",IF(LEFT(I14,1)="後",VLOOKUP(I14,G202:S210,13,FALSE),"")) | AP14: 商号又は名称 | AU14: 法人名 | AX14: 前 株式会社 | BB14: 商号 | BD14: Ｓａｍｐｌｅ測量
A15: 所在地又は住所 | F15: 郵便番号 | I15: 〒 | L15: - | AH15: =AI15&AJ15 | AI15: =IF(J15="","",J15&L15) | AJ15: =IF(M15="","",M15) | AP15: 所在地又は住所 | AU15: 郵便番号 | AX15: 〒 | AY15: 000 | BA15: - | BB15: 0000
F16: 都道府県 | AH16: =I16&I17&I18 | AU16: 都道府県 | AX16: ○○県
F17: 市区町村 | AU17: 市区町村 | AX17: ○○市
F18: 町名番地 | AU18: 町名番地 | AX18: ○○２丁目
A19: フリガナ | AP19: フリガナ | BF19: ソクリョウ タロウ
A20: 代表者 | F20: 役職 | O20: 氏名 | AP20: 代表者 | AU20: 役職 | AW20: 代表取締役社長 | BD20: 氏名 | BF20: 測量 太郎
A21: 電話番号 | AP21: 電話番号 | AU21: 1234-56-0001
A22: ＦＡＸ番号 | AP22: ＦＡＸ番号 | AU22: 1234-56-0002
A23: メールアドレス | AP23: メールアドレス | AU23: t-sokuryo@sample.co.jp
A25: 営業所（委任する場合は記入） | AP25: 営業所（委任する場合は記入）
A26: フリガナ | F26: =IF(AH13="","",AH13) | AH26: =F26&Q26 | AP26: フリガナ | AU26: =IF(BD13="","",BD13) -> サンプルソクリョウ | BF26: チュオウエイギョウショ
A27: 名称 | F27: =IF(AH14="","",AH14) | AH27: =IF(Q27="","",F27&" "&Q27) | AP27: 名称 | AU27: =BX14&BD14&BY14 -> Ｓａｍｐｌｅ測量 | BF27: 中央営業所
A28: 所在地又は住所 | F28: 郵便番号 | I28: 〒 | L28: - | AH28: =AI28&AJ28 | AI28: =IF(J28="","",J28&L28) | AJ28: =IF(M28="","",M28) | AP28: 所在地又は住所 | AU28: 郵便番号 | AX28: 〒 | AY28: 000 | BA28: - | BB28: 0000
F29: 都道府県 | AH29: =I29&I30&I31 | AU29: 都道府県 | AX29: ○△県
F30: 市町村 | AU30: 市町村 | AX30: ○○市
F31: 町名地番 | AU31: 町名地番 | AX31: ○○２－２
A32: フリガナ | AP32: フリガナ | BF32: ソクリョウ ジロウ
A33: 代表者 | F33: 役職 | O33: 氏名 | AP33: 代表者 | AU33: 役職 | AW33: 営業所長 | BD33: 氏名 | BF33: 測量 次郎
A34: 電話番号 | AP34: 電話番号 | AU34: 1234-56-0003
A35: ＦＡＸ番号 | AP35: ＦＡＸ番号 | AU35: 1234-56-0004
A36: メールアドレス | AP36: メールアドレス | AU36: j-sokuryo@sample.co.jp
A38: 資本金 | P38: 千円 | R38: 自己資本金 | AF38: 千円 | AP38: 資本金 | AU38: 15000 | BE38: 千円 | BG38: 自己資本金 | BL38: 15000 | BU38: 千円
A39: 設立登記年月日 | R39: 営業年数 | Y39: 年 | Z39: 従業員数 | AG39: 人 | AP39: 設立登記年月日 | AU39: =DATE(YEAR(TODAY())-BJ39,6,1) -> 37043 | BG39: 営業年数 | BJ39: 25 | BN39: 年 | BO39: 従業員数 | BR39: 10 | BV39: 人
A41: 問い合わせ先 | AP41: 問い合わせ先
A42: フリガナ | AP42: フリガナ | BF42: ソクリョウ イチロウ
A43: 氏名 | F43: 部署 | O43: 氏名 | AP43: 氏名 | AU43: 部署 | AW43: 営業課 | BD43: 氏名 | BF43: 測量 一郎
A44: 電話番号 | AP44: 電話番号 | AU44: 1234-56-0005
...

Sheet Inputval
A1: 項目説明1 | B1: 項目説明2 | C1: 区分 | D1: KeyWord1 | E1: KeyWord2 | F1: 値 | G1: 補足 | N1: 対応項目
A2: 業者区分 | B2: 建設、業務、物品 | C2: Info | D2: ORDER_CLASS | F2: =業者カード!AI2 -> 1
A3: バージョン情報 | C3: Info | D3: VERSION | F3: =業者カード!AK4 -> 2026090101
A4: 年度 | C4: Info | D4: YEAR | F4: =業者カード!AJ2 -> 2026
A5: LASDECコード | C5: Info | D5: LASDEC | F5: =業者カード!AI5 -> 18210
A7: 情報 | C7: 区分 | D7: KeyWord1 | E7: KeyWord2 | F7: 値 | G7: 補足
A8: 記入日 | C8: Info | D8: EditDate | F8: =IF(業者カード!AB1="","",業者カード!AB1) -> 46508 | N8: 受付年月日
A9: 届出区分 | C9: Info | D9: NEW_CLASS | F9: =業者カード!AH10 | G9: =業者カード!F10 -> 0
A10: 本社所在地 | C10: Val | D10: MST_SUPPLIER_LIST | E10: SU_AREA | F10: =業者カード!AI10 | G10: =業者カード!T10 -> 0 | N10: 地域
A11: 業者番号 | C11: Val | D11: MST_SUPPLIER_LIST | E11: SU_CODE | F11: =IF(業者カード!F7="","",業者カード!AH7)
A12: 法人番号 | C12: Val | D12: MST_SUPPLIER_LIST | E12: SU_CORPORATE_NO | F12: =IF(F13=1,IF(業者カード!F9="","",業者カード!AI9),IF(業者カード!F8="","",業者カード!AH8))
A13: インボイス登録番号 | C13: Val | D13: MST_SUPPLIER_LIST | E13: FlgIsInvoiceNo | F13: =業者カード!AH9 -> 0
A15: 申請者(本社) | C15: 区分 | D15: KeyWord1 | E15: KeyWord2 | N15: 本社情報
A16: 法人名 | C16: Info | D16: MST_SUPPLIER_LIST | F16: =業者カード!AI14 | N16: 商号に法人名を付与する
A17: 商号 | C17: Val | D17: MST_SUPPLIER_LIST | E17: SU_NAME | F17: =IF(業者カード!O14="","",業者カード!AH14) | N17: 商号又は名称
A18: 商号カナ | C18: Val | D18: MST_SUPPLIER_LIST | E18: SU_NAME_PRONOUNCE | F18: =IF(業者カード!O13="","",業者カード!O13) | N18: フリガナ
A19: 郵便番号 | C19: Val | D19: MST_SUPPLIER_LIST | E19: SU_ZIP | F19: =IF(業者カード!AH15="","",業者カード!AH15) | N19: 郵便番号
A20: 所在地又は住所 | C20: Val | D20: MST_SUPPLIER_LIST | E20: SU_ADDRESS | F20: =IF(業者カード!AH16="","",業者カード!AH16) | N20: 所在地又は住所
A21: 代表者 | B21: 役職 | C21: Val | D21: MST_SUPPLIER_LIST | E21: SU_TOP_POST | F21: =IF(業者カード!H20="","",業者カード!H20) | N21: 役職
B22: 氏名 | C22: Val | D22: MST_SUPPLIER_LIST | E22: SU_TOP_NAME | F22: =IF(業者カード!Q20="","",業者カード!Q20) | N22: 氏名
B23: フリガナ | C23: Val | D23: MST_SUPPLIER_LIST | E23: SU_TOP_NAME_PRONOUNCE | F23: =IF(業者カード!Q19="","",業者カード!Q19) | N23: フリガナ
A24: 電話番号 | C24: Val | D24: MST_SUPPLIER_LIST | E24: SU_TEL | F24: =IF(業者カード!F21="","",業者カード!F21) | N24: 電話番号
A25: FAX番号 | C25: Val | D25: MST_SUPPLIER_LIST | E25: SU_FAX | F25: =IF(業者カード!F22="","",業者カード!F22) | N25: FAX番号
A26: メールアドレス | C26: Val | D26: MST_SUPPLIER_LIST | E26: SU_MAIL | F26: =IF(業者カード!F23="","",業者カード!F23) | N26: メールアドレス
A28: 営業所 | C28: 区分 | D28: KeyWord1 | E28: KeyWord2 | N28: 営業所情報
A29: 名称 | C29: Val | D29: MST_SUPPLIER_LIST | E29: SU_BRANCH_NAME | F29: =IF(業者カード!Q27="","",業者カード!AH27) | N29: 名称
A30: カナ | C30: Val | D30: MST_SUPPLIER_LIST | E30: SU_BRANCH_NAME_PRONOUNCE | F30: =IF(業者カード!Q26="","",業者カード!AH26) | N30: フリガナ
A31: 郵便番号 | C31: Val | D31: MST_SUPPLIER_LIST | E31: SU_BRANCH_ZIP | F31: =IF(業者カード!AH28="","",業者カード!AH28) | N31: 郵便番号
A32: 所在地又は住所 | C32: Val | D32: MST_SUPPLIER_LIST | E32: SU_BRANCH_ADDRESS | F32: =IF(業者カード!AH29="","",業者カード!AH29) | N32: 所在地又は住所
A33: 代表者 | B33: 役職 | C33: Val | D33: MST_SUPPLIER_LIST | E33: SU_BRANCH_TOP_POST | F33: =IF(業者カード!H33="","",業者カード!H33) | N33: 役職
B34: 氏名 | C34: Val | D34: MST_SUPPLIER_LIST | E34: SU_BRANCH_TOP_NAME | F34: =IF(業者カード!Q33="","",業者カード!Q33) | N34: 氏名
B35: フリガナ | C35: Val | D35: MST_SUPPLIER_LIST | E35: SU_BRANCH_TOP_NAME_PRONOUNCE | F35: =IF(業者カード!Q32="","",業者カード!Q32) | N35: フリガナ
A36: 電話番号 | C36: Val | D36: MST_SUPPLIER_LIST | E36: SU_BRANCH_TEL | F36: =IF(業者カード!F34="","",業者カード!F34) | N36: 電話番号
A37: FAX番号 | C37: Val | D37: MST_SUPPLIER_LIST | E37: SU_BRANCH_FAX | F37: =IF(業者カード!F34="","",業者カード!F34) | N37: FAX番号
A38: メールアドレス | C38: Val | D38: MST_SUPPLIER_LIST | E38: SU_BRANCH_MAIL | F38: =IF(業者カード!F36="","",業者カード!F36) | N38: メールアドレス
C40: 区分 | D40: KeyWord1 | E40: KeyWord2 | N40: 本社情報
A41: 資本金 | C41: Val | D41: MST_SUPPLIER_LIST | E41: SU_CAPITAL | F41: =IF(業者カード!F38="","",業者カード!F38) | N41: 資本金
A42: 自己資本金 | C42: Val | D42: MST_SUPPLIER_LIST | E42: SU_OWNER_CAPITAL | F42: =IF(業者カード!W38="","",業者カード!W38) | N42: 自己資本金
A43: 設立登記年月日 | C43: Val | D43: MST_SUPPLIER_LIST | E43: SU_REGIST_DATE | F43: =IF(業者カード!F39="","",業者カード!F39) | N43: 設立登記年月日
A44: 営業年数 | C44: Val | D44: MST_SUPPLIER_LIST | E44: SU_BUSINESS_YEARS | F44: =IF(業者カード!U39="","",業者カード!U39) | N44: 営業年数
...

Sheet InputvalEng
A1: 項目説明1 | B1: 項目説明2 | C1: 区分 | D1: KeyWord1 | E1: KeyWord2 | F1: 値 | G1: 氏名 | H1: フリガナ | I1: 生年月日 | J1: 資格１ | K1: 資格２ | L1: 資格３ | M1: 資格４ | N1: 資格交付番号 | R1: 監理技術者区分 | S1: 監理技術者証番号 | T1: 監理技術者交付日 | U1: 監理技術者有効期限 | V1: 経営管理責任者 | W1: 専任技術者
A3: 技術者名簿 | F3: 編集タイプ | J3: 有資格区分 | N3: 資格交付番号
G4: =IF(#REF!="","",#REF!) -> #REF! | J4: 1 | K4: 2 | L4: 3 | M4: 4 | N4: 1 | O4: 2 | P4: 3 | Q4: 4 | R4: 監理技術者区分 | S4: 監理技術者証番号 | T4: 監理技術者交付日 | U4: 監理技術者有効期限 | V4: 経営管理責任者 | W4: 専任技術者
B6: 対象行 | C6: Table | D6: MST_SUPPLIER_KENSETSU_ENGINEER | E6: GJS_ID | F6: #Judge | G6: GJS_NAME | H6: GJS_KANA | I6: GJS_SEINENGAPPI | J6: GJS_YUSIKAKU01 | K6: GJS_YUSIKAKU02 | L6: GJS_YUSIKAKU03 | M6: GJS_YUSIKAKU04 | N6: #YUSIKAKU_NO01 | O6: #YUSIKAKU_NO02 | P6: #YUSIKAKU_NO03 | Q6: #YUSIKAKU_NO04 | R6: GJS_KANRI_KUBUN | S6: GJS_KNRGJS_CD | T6: GJS_KNRGJS_KOUFU_DATE | U6: GJS_KNRGJS_YUKOU_DATE | V6: GJS_KEIEI_KUBUN | W6: GJS_SENNIN_KUBUN
A7: 1人目 | B7: 6 | C7: TableVal | D7: MST_SUPPLIER_KENSETSU_ENGINEER | E7: 1 | F7: =IF(#REF!="","",1) -> #REF! | G7: =IF(#REF!="","",#REF!) -> #REF! | H7: =IF(#REF!="","",#REF!) -> #REF! | I7: =IF(#REF!="","",#REF!) -> #REF! | J7: =IF(#REF!="","",#REF!) -> #REF! | K7: =IF(#REF!="","",#REF!) -> #REF! | L7: =IF(#REF!="","",#REF!) -> #REF! | M7: =IF(#REF!="","",#REF!) -> #REF!
A8: 2人目 | B8: =B7+4 -> 10 | C8: TableVal | D8: MST_SUPPLIER_KENSETSU_ENGINEER | E8: 2 | F8: =IF(#REF!="","",1) -> #REF! | G8: =IF(#REF!="","",#REF!) -> #REF! | H8: =IF(#REF!="","",#REF!) -> #REF! | I8: =IF(#REF!="","",#REF!) -> #REF! | J8: =IF(#REF!="","",#REF!) -> #REF! | K8: =IF(#REF!="","",#REF!) -> #REF! | L8: =IF(#REF!="","",#REF!) -> #REF! | M8: =IF(#REF!="","",#REF!) -> #REF!
A9: 3人目 | B9: =B8+4 -> 14 | C9: TableVal | D9: MST_SUPPLIER_KENSETSU_ENGINEER | E9: 3 | F9: =IF(#REF!="","",1) -> #REF! | G9: =IF(#REF!="","",#REF!) -> #REF! | H9: =IF(#REF!="","",#REF!) -> #REF! | I9: =IF(#REF!="","",#REF!) -> #REF! | J9: =IF(#REF!="","",#REF!) -> #REF! | K9: =IF(#REF!="","",#REF!) -> #REF! | L9: =IF(#REF!="","",#REF!) -> #REF! | M9: =IF(#REF!="","",#REF!) -> #REF!
A10: 4人目 | B10: =B9+4 -> 18 | C10: TableVal | D10: MST_SUPPLIER_KENSETSU_ENGINEER | E10: 4 | F10: =IF(#REF!="","",1) -> #REF! | G10: =IF(#REF!="","",#REF!) -> #REF! | H10: =IF(#REF!="","",#REF!) -> #REF! | I10: =IF(#REF!="","",#REF!) -> #REF! | J10: =IF(#REF!="","",#REF!) -> #REF! | K10: =IF(#REF!="","",#REF!) -> #REF! | L10: =IF(#REF!="","",#REF!) -> #REF! | M10: =IF(#REF!="","",#REF!) -> #REF!
A11: 5人目 | B11: =B10+4 -> 22 | C11: TableVal | D11: MST_SUPPLIER_KENSETSU_ENGINEER | E11: 5 | F11: =IF(#REF!="","",1) -> #REF! | G11: =IF(#REF!="","",#REF!) -> #REF! | H11: =IF(#REF!="","",#REF!) -> #REF! | I11: =IF(#REF!="","",#REF!) -> #REF! | J11: =IF(#REF!="","",#REF!) -> #REF! | K11: =IF(#REF!="","",#REF!) -> #REF! | L11: =IF(#REF!="","",#REF!) -> #REF! | M11: =IF(#REF!="","",#REF!) -> #REF!
A12: 6人目 | B12: =B11+4 -> 26 | C12: TableVal | D12: MST_SUPPLIER_KENSETSU_ENGINEER | E12: 6 | F12: =IF(#REF!="","",1) -> #REF! | G12: =IF(#REF!="","",#REF!) -> #REF! | H12: =IF(#REF!="","",#REF!) -> #REF! | I12: =IF(#REF!="","",#REF!) -> #REF! | J12: =IF(#REF!="","",#REF!) -> #REF! | K12: =IF(#REF!="","",#REF!) -> #REF! | L12: =IF(#REF!="","",#REF!) -> #REF! | M12: =IF(#REF!="","",#REF!) -> #REF!
A13: 7人目 | B13: =B12+4 -> 30 | C13: TableVal | D13: MST_SUPPLIER_KENSETSU_ENGINEER | E13: 7 | F13: =IF(#REF!="","",1) -> #REF! | G13: =IF(#REF!="","",#REF!) -> #REF! | H13: =IF(#REF!="","",#REF!) -> #REF! | I13: =IF(#REF!="","",#REF!) -> #REF! | J13: =IF(#REF!="","",#REF!) -> #REF! | K13: =IF(#REF!="","",#REF!) -> #REF! | L13: =IF(#REF!="","",#REF!) -> #REF! | M13: =IF(#REF!="","",#REF!) -> #REF!
A14: 8人目 | B14: =B13+4 -> 34 | C14: TableVal | D14: MST_SUPPLIER_KENSETSU_ENGINEER | E14: 8 | F14: =IF(#REF!="","",1) -> #REF! | G14: =IF(#REF!="","",#REF!) -> #REF! | H14: =IF(#REF!="","",#REF!) -> #REF! | I14: =IF(#REF!="","",#REF!) -> #REF! | J14: =IF(#REF!="","",#REF!) -> #REF! | K14: =IF(#REF!="","",#REF!) -> #REF! | L14: =IF(#REF!="","",#REF!) -> #REF! | M14: =IF(#REF!="","",#REF!) -> #REF!
A15: 9人目 | B15: =B14+4 -> 38 | C15: TableVal | D15: MST_SUPPLIER_KENSETSU_ENGINEER | E15: 9 | F15: =IF(#REF!="","",1) -> #REF! | G15: =IF(#REF!="","",#REF!) -> #REF! | H15: =IF(#REF!="","",#REF!) -> #REF! | I15: =IF(#REF!="","",#REF!) -> #REF! | J15: =IF(#REF!="","",#REF!) -> #REF! | K15: =IF(#REF!="","",#REF!) -> #REF! | L15: =IF(#REF!="","",#REF!) -> #REF! | M15: =IF(#REF!="","",#REF!) -> #REF!
A16: 10人目 | B16: =B15+4 -> 42 | C16: TableVal | D16: MST_SUPPLIER_KENSETSU_ENGINEER | E16: 10 | F16: =IF(#REF!="","",1) -> #REF! | G16: =IF(#REF!="","",#REF!) -> #REF! | H16: =IF(#REF!="","",#REF!) -> #REF! | I16: =IF(#REF!="","",#REF!) -> #REF! | J16: =IF(#REF!="","",#REF!) -> #REF! | K16: =IF(#REF!="","",#REF!) -> #REF! | L16: =IF(#REF!="","",#REF!) -> #REF! | M16: =IF(#REF!="","",#REF!) -> #REF!
A17: 11人目 | B17: =B16+4 -> 46 | C17: TableVal | D17: MST_SUPPLIER_KENSETSU_ENGINEER | E17: 11 | F17: =IF(#REF!="","",1) -> #REF! | G17: =IF(#REF!="","",#REF!) -> #REF! | H17: =IF(#REF!="","",#REF!) -> #REF! | I17: =IF(#REF!="","",#REF!) -> #REF! | J17: =IF(#REF!="","",#REF!) -> #REF! | K17: =IF(#REF!="","",#REF!) -> #REF! | L17: =IF(#REF!="","",#REF!) -> #REF! | M17: =IF(#REF!="","",#REF!) -> #REF!
A18: 12人目 | B18: =B17+4 -> 50 | C18: TableVal | D18: MST_SUPPLIER_KENSETSU_ENGINEER | E18: 12 | F18: =IF(#REF!="","",1) -> #REF! | G18: =IF(#REF!="","",#REF!) -> #REF! | H18: =IF(#REF!="","",#REF!) -> #REF! | I18: =IF(#REF!="","",#REF!) -> #REF! | J18: =IF(#REF!="","",#REF!) -> #REF! | K18: =IF(#REF!="","",#REF!) -> #REF! | L18: =IF(#REF!="","",#REF!) -> #REF! | M18: =IF(#REF!="","",#REF!) -> #REF!
A19: 13人目 | B19: =B18+4 -> 54 | C19: TableVal | D19: MST_SUPPLIER_KENSETSU_ENGINEER | E19: 13 | F19: =IF(#REF!="","",1) -> #REF! | G19: =IF(#REF!="","",#REF!) -> #REF! | H19: =IF(#REF!="","",#REF!) -> #REF! | I19: =IF(#REF!="","",#REF!) -> #REF! | J19: =IF(#REF!="","",#REF!) -> #REF! | K19: =IF(#REF!="","",#REF!) -> #REF! | L19: =IF(#REF!="","",#REF!) -> #REF! | M19: =IF(#REF!="","",#REF!) -> #REF!
... A156: 150人目 | B156: =B155+4 -> 602 | C156: TableVal | D156: MST_SUPPLIER_KENSETSU_ENGINEER | E156: 150 | F156: =IF(#REF!="","",1) -> #REF! | G156: =IF(#REF!="","",#REF!) -> #REF! | H156: =IF(#REF!="","",#REF!) -> #REF! | I156: =IF(#REF!="","",#REF!) -> #REF! | J156: =IF(#REF!="","",#REF!) -> #REF! | K156: =IF(#REF!="","",#REF!) -> #REF! | L156: =IF(#REF!="","",#REF!) -> #REF! | M156: =IF(#REF!="","",#REF!) -> #REF!
