Workbook
Name 許可の区分: #REF!
Name 許可の区分: #REF!
Name 届出区分: #REF!
Name 届出区分: #REF!

Sheet 業者カード
A1: 坂井市 | E1: ="["&TEXT(AI3,"ggge年m月d日")&"改訂]" -> [令和8年9月1日改訂] | AB1: 46508 | AH1: 【取込み用計算式】 | AP1: =IF(A1="","",A1) -> 坂井市 | AT1: ="["&TEXT(AI3,"ggge年m月d日")&"改訂]" -> [令和8年9月1日改訂]
AH2: CLASS | AI2: 1 | AJ2: 2026
A3: 業者カード (測量・建設コンサルタント) | AH3: UPDATE | AI3: 46266 | AP3: 業者カード (測量・建設コンサルタント)
AH4: VERSION | AI4: =TEXT(AI3,"yyyyMMdd") -> 20260901 | AJ4: 1 | AK4: =AI4&TEXT(AJ4,"00") -> 2026090101
A5: ※太枠箇所を記入してください。 | AH5: LASDEC | AI5: 18210 | AP5: ※太枠箇所を記入してください。
A6: 申請年度 | F6: 令和９・１０年度 | AP6: 申請年度 | AU6: =IF(F6="","",F6) -> 令和９・１０年度
A7: 業者番号 | AH7: =RIGHT("00000"&F7,5) -> 00000 | AP7: 業者番号 | AU7: 坂井市入力
A8: 法人番号 | AH8: =RIGHT("0000000000000"&F8,13) -> 0000000000000 | AP8: 法人番号 | AU8: 01234567890002
A9: インボイス 登録番号 | F9: T | AH9: =IF(G9<>"",1,0) -> 0 | AI9: =RIGHT("0000000000000"&G9,13) -> 0000000000000 | AP9: インボイス 登録番号 | AU9: T | AV9: 0123456789002
A10: 届出区分 | O10: 本社又は委任先の所在地 | AH10: =IF(F10="","",VLOOKUP(F10,G191:Q192,11,FALSE)) | AI10: =IF(T10="","",VLOOKUP(T10,G195:Q199,11,FALSE)) | AP10: 届出区分 | AU10: 新規 | BD10: 本社又は委任先の所在地 | BI10: 市内
A12: 申請者(本社) | AP12: 登録する営業所（本社または委任された営業所）
A13: フリガナ | AH13: =IF(O13="","",O13) | AP13: フリガナ | BD13: サンプルソクリョウ
A14: 商号又は名称 | F14: 法人名 | M14: 商号 | AH14: =AJ14&O14&AK14 | AI14: =IF(I14="","",VLOOKUP(I14,G202:Q210,11,FALSE)) | AJ14: =IF(I14="","",IF(LEFT(I14,1)="前",VLOOKUP(I14,G202:S210,13,FALSE),"")) | AK14: =IF(I14="","",IF(LEFT(I14,1)="後",VLOOKUP(I14,G202:S210,13,FALSE),"")) | AP14: 商号又は名称 | AU14: 法人名 | AX14: 前 株式会社 | BB14: 商号 | BD14: Ｓａｍｐｌｅ測量
A15: 所在地又は住所 | F15: 郵便番号 | I15: 〒 | L15: - | AH15: =AI15&AJ15 | AI15: =IF(J15="","",J15&L15) | AJ15: =IF(M15="","",M15) | AP15: 所在地又は住所 | AU15: 郵便番号 | AX15: 〒 | AY15: 000 | BA15: - | BB15: 0000
F16: 都道府県 | AH16: =I16&I17&I18 | AU16: 都道府県 | AX16: ○○県
F17: 市区町村 | AU17: 市区町村 | AX17: ○○市
F18: 町名番地 | AU18: 町名番地 | AX18: ○○２丁目
A19: フリガナ | AP19: フリガナ | BF19: ソクリョウ タロウ
A20: 代表者 | F20: 役職 | O20: 氏名 | AP20: 代表者 | AU20: 役職 | AW20: 代表取締役社長 | BD20: 氏名 | BF20: 測量 太郎
A21: 電話番号 | AP21: 電話番号 | AU21: 1234-56-0001
A22: ＦＡＸ番号 | AP22: ＦＡＸ番号 | AU22: 1234-56-0002
A23: メールアドレス | AP23: メールアドレス | AU23: t-sokuryo@sample.co.jp
A25: 営業所（委任する場合は記入） | AP25: 営業所（委任する場合は記入）
A26: フリガナ | F26: =IF(AH13="","",AH13) | AH26: =F26&Q26 | AP26: フリガナ | AU26: =IF(BD13="","",BD13) -> サンプルソクリョウ | BF26: チュオウエイギョウショ
A27: 名称 | F27: =IF(AH14="","",AH14) | AH27: =IF(Q27="","",F27&" "&Q27) | AP27: 名称 | AU27: =BX14&BD14&BY14 -> Ｓａｍｐｌｅ測量 | BF27: 中央営業所
A28: 所在地又は住所 | F28: 郵便番号 | I28: 〒 | L28: - | AH28: =AI28&AJ28 | AI28: =IF(J28="","",J28&L28) | AJ28: =IF(M28="","",M28) | AP28: 所在地又は住所 | AU28: 郵便番号 | AX28: 〒 | AY28: 000 | BA28: - | BB28: 0000
F29: 都道府県 | AH29: =I29&I30&I31 | AU29: 都道府県 | AX29: ○△県
F30: 市町村 | AU30: 市町村 | AX30: ○○市
F31: 町名地番 | AU31: 町名地番 | AX31: ○○２－２
A32: フリガナ | AP32: フリガナ | BF32: ソクリョウ ジロウ
A33: 代表者 | F33: 役職 | O33: 氏名 | AP33: 代表者 | AU33: 役職 | AW33: 営業所長 | BD33: 氏名 | BF33: 測量 次郎
A34: 電話番号 | AP34: 電話番号 | AU34: 1234-56-0003
A35: ＦＡＸ番号 | AP35: ＦＡＸ番号 | AU35: 1234-56-0004
A36: メールアドレス | AP36: メールアドレス | AU36: j-sokuryo@sample.co.jp
A38: 資本金 | P38: 千円 | R38: 自己資本金 | AF38: 千円 | AP38: 資本金 | AU38: 15000 | BE38: 千円 | BG38: 自己資本金 | BL38: 15000 | BU38: 千円
A39: 設立登記年月日 | R39: 営業年数 | Y39: 年 | Z39: 従業員数 | AG39: 人 | AP39: 設立登記年月日 | AU39: =DATE(YEAR(TODAY())-BJ39,6,1) -> 37043 | BG39: 営業年数 | BJ39: 25 | BN39: 年 | BO39: 従業員数 | BR39: 10 | BV39: 人
A41: 問い合わせ先 | AP41: 問い合わせ先
A42: フリガナ | AP42: フリガナ | BF42: ソクリョウ イチロウ
A43: 氏名 | F43: 部署 | O43: 氏名 | AP43: 氏名 | AU43: 部署 | AW43: 営業課 | BD43: 氏名 | BF43: 測量 一郎
A44: 電話番号 | AP44: 電話番号 | AU44: 1234-56-0005
A45: ＦＡＸ番号 | AP45: ＦＡＸ番号 | AU45: 1234-56-0006
A46: メールアドレス | AP46: メールアドレス | AU46: i-sokuryo@sample.co.jp
A48: 登録を希望する業種 | AP48: 登録を希望する業種
A49: 登録業種 | K49: 登録番号 | S49: 登録年月日 | Z49: 完成測量高 | AP49: 登録業種 | AZ49: 登録番号 | BH49: 登録年月日 | BO49: 完成測量高
A50: 測量 | K50: 第 | R50: 号 | AF50: 千円 | AJ50: 0 | AP50: 測量 | AZ50: 第 | BA50: 999999 | BG50: 号 | BH50: =DATE(YEAR(TODAY())-BJ39,7,1) -> 37073 | BO50: 123450 | BU50: 千円
A51: 希望 | C51: 種別 | S51: 技術者の数（登録する営業所の人数） | AP51: 希望 | AR51: 種別 | BH51: 技術者の数（登録する営業所の人数）
S52: 測量士 | X52: 測量士補 | AC52: その他 | AH52: 登録 | AI52: 希望 | BH52: 測量士 | BM52: 測量士補 | BR52: その他
C53: 測量一般 | W53: 人 | AB53: 人 | AG53: 人 | AH53: =IF(AI53="","",AI53) | AI53: =IF(A53="","",VLOOKUP(A53,$G$213:$Q$213,11,FALSE)) | AJ53: 0 | AK53: 0 | AP53: ○ | AR53: 測量一般 | BH53: 5 | BL53: 人 | BM53: 1 | BQ53: 人 | BV53: 人
C54: 地図の調製 | W54: 人 | AB54: 人 | AG54: 人 | AH54: =IF(AI54="","",AI54) | AI54: =IF(A54="","",VLOOKUP(A54,$G$213:$Q$213,11,FALSE)) | AJ54: 0 | AK54: 1 | AP54: ○ | AR54: 地図の調製 | BH54: 3 | BL54: 人 | BQ54: 人 | BV54: 人
C55: 航空測量 | W55: 人 | AB55: 人 | AG55: 人 | AH55: =IF(AI55="","",AI55) | AI55: =IF(A55="","",VLOOKUP(A55,$G$213:$Q$213,11,FALSE)) | AJ55: 0 | AK55: 2 | AR55: 航空測量 | BL55: 人 | BQ55: 人 | BV55: 人
A58: 登録業種 | K58: 登録番号 | S58: 登録年月日 | Z58: 完成測量高 | AP58: 登録業種 | AZ58: 登録番号 | BH58: 登録年月日 | BO58: 完成測量高
A59: 土木関係建設コンサルタント | K59: 第 | R59: 号 | AF59: 千円 | AJ59: 1 | AP59: 土木関係建設コンサルタント | AZ59: 第 | BG59: 号 | BU59: 千円
A60: 希望 | C60: 種別 | S60: 技術者の数（登録する営業所の人数） | AP60: 希望 | AR60: 種別 | BH60: 技術者の数（登録する営業所の人数）
S61: 技術士 | X61: RCCM | AC61: その他 | BH61: 技術士 | BM61: RCCM | BR61: その他
C62: 河川・砂防及び海岸 | W62: 人 | AB62: 人 | AG62: 人 | AH62: =IF(AI62="","",AI62) | AI62: =IF(A62="","",VLOOKUP(A62,$G$213:$Q$213,11,FALSE)) | AJ62: =$AJ$59 -> 1 | AK62: 0 | AR62: 河川・砂防及び海岸 | BL62: 人 | BQ62: 人 | BV62: 人
C63: 港湾及び空港 | W63: 人 | AB63: 人 | AG63: 人 | AH63: =IF(AI63="","",AI63) | AI63: =IF(A63="","",VLOOKUP(A63,$G$213:$Q$213,11,FALSE)) | AJ63: =$AJ$59 -> 1 | AK63: 1 | AR63: 港湾及び空港 | BL63: 人 | BQ63: 人 | BV63: 人
C64: 電力土木 | W64: 人 | AB64: 人 | AG64: 人 | AH64: =IF(AI64="","",AI64) | AI64: =IF(A64="","",VLOOKUP(A64,$G$213:$Q$213,11,FALSE)) | AJ64: =$AJ$59 -> 1 | AK64: 2 | AR64: 電力土木 | BL64: 人 | BQ64: 人 | BV64: 人
C65: 道路 | W65: 人 | AB65: 人 | AG65: 人 | AH65: =IF(AI65="","",AI65) | AI65: =IF(A65="","",VLOOKUP(A65,$G$213:$Q$213,11,FALSE)) | AJ65: =$AJ$59 -> 1 | AK65: 3 | AP65: ○ | AR65: 道路 | BL65: 人 | BM65: 2 | BQ65: 人 | BR65: 1 | BV65: 人
C66: 鉄道 | W66: 人 | AB66: 人 | AG66: 人 | AH66: =IF(AI66="","",AI66) | AI66: =IF(A66="","",VLOOKUP(A66,$G$213:$Q$213,11,FALSE)) | AJ66: =$AJ$59 -> 1 | AK66: 4 | AR66: 鉄道 | BL66: 人 | BQ66: 人 | BV66: 人
C67: 上水道及び工業用水道 | W67: 人 | AB67: 人 | AG67: 人 | AH67: =IF(AI67="","",AI67) | AI67: =IF(A67="","",VLOOKUP(A67,$G$213:$Q$213,11,FALSE)) | AJ67: =$AJ$59 -> 1 | AK67: 5 | AR67: 上水道及び工業用水道 | BL67: 人 | BQ67: 人 | BV67: 人
C68: 下水道 | W68: 人 | AB68: 人 | AG68: 人 | AH68: =IF(AI68="","",AI68) | AI68: =IF(A68="","",VLOOKUP(A68,$G$213:$Q$213,11,FALSE)) | AJ68: =$AJ$59 -> 1 | AK68: 6 | AP68: ○ | AR68: 下水道 | BH68: 1 | BL68: 人 | BM68: 1 | BQ68: 人 | BV68: 人
C69: 農業土木 | W69: 人 | AB69: 人 | AG69: 人 | AH69: =IF(AI69="","",AI69) | AI69: =IF(A69="","",VLOOKUP(A69,$G$213:$Q$213,11,FALSE)) | AJ69: =$AJ$59 -> 1 | AK69: 7 | AR69: 農業土木 | BL69: 人 | BQ69: 人 | BV69: 人
C70: 森林土木 | W70: 人 | AB70: 人 | AG70: 人 | AH70: =IF(AI70="","",AI70) | AI70: =IF(A70="","",VLOOKUP(A70,$G$213:$Q$213,11,FALSE)) | AJ70: =$AJ$59 -> 1 | AK70: 8 | AR70: 森林土木 | BL70: 人 | BQ70: 人 | BV70: 人
C71: 水産土木 | W71: 人 | AB71: 人 | AG71: 人 | AH71: =IF(AI71="","",AI71) | AI71: =IF(A71="","",VLOOKUP(A71,$G$213:$Q$213,11,FALSE)) | AJ71: =$AJ$59 -> 1 | AK71: 9 | AR71: 水産土木 | BL71: 人 | BQ71: 人 | BV71: 人
C72: 造園 | W72: 人 | AB72: 人 | AG72: 人 | AH72: =IF(AI72="","",AI72) | AI72: =IF(A72="","",VLOOKUP(A72,$G$213:$Q$213,11,FALSE)) | AJ72: =$AJ$59 -> 1 | AK72: 10 | AR72: 造園 | BL72: 人 | BQ72: 人 | BV72: 人
C73: 都市計画及び地方計画 | W73: 人 | AB73: 人 | AG73: 人 | AH73: =IF(AI73="","",AI73) | AI73: =IF(A73="","",VLOOKUP(A73,$G$213:$Q$213,11,FALSE)) | AJ73: =$AJ$59 -> 1 | AK73: 11 | AR73: 都市計画及び地方計画 | BL73: 人 | BQ73: 人 | BV73: 人
C74: 地質 | W74: 人 | AB74: 人 | AG74: 人 | AH74: =IF(AI74="","",AI74) | AI74: =IF(A74="","",VLOOKUP(A74,$G$213:$Q$213,11,FALSE)) | AJ74: =$AJ$59 -> 1 | AK74: 12 | AR74: 地質 | BL74: 人 | BQ74: 人 | BV74: 人
C75: 土質及び基礎 | W75: 人 | AB75: 人 | AG75: 人 | AH75: =IF(AI75="","",AI75) | AI75: =IF(A75="","",VLOOKUP(A75,$G$213:$Q$213,11,FALSE)) | AJ75: =$AJ$59 -> 1 | AK75: 13 | AR75: 土質及び基礎 | BL75: 人 | BQ75: 人 | BV75: 人
C76: 鋼構造物及びコンクリート | W76: 人 | AB76: 人 | AG76: 人 | AH76: =IF(AI76="","",AI76) | AI76: =IF(A76="","",VLOOKUP(A76,$G$213:$Q$213,11,FALSE)) | AJ76: =$AJ$59 -> 1 | AK76: 14 | AR76: 鋼構造物及びコンクリート | BL76: 人 | BQ76: 人 | BV76: 人
C77: トンネル | W77: 人 | AB77: 人 | AG77: 人 | AH77: =IF(AI77="","",AI77) | AI77: =IF(A77="","",VLOOKUP(A77,$G$213:$Q$213,11,FALSE)) | AJ77: =$AJ$59 -> 1 | AK77: 15 | AR77: トンネル | BL77: 人 | BQ77: 人 | BV77: 人
C78: 施工計画・施工設備及び積算 | W78: 人 | AB78: 人 | AG78: 人 | AH78: =IF(AI78="","",AI78) | AI78: =IF(A78="","",VLOOKUP(A78,$G$213:$Q$213,11,FALSE)) | AJ78: =$AJ$59 -> 1 | AK78: 16 | AR78: 施工計画・施工設備及び積算 | BL78: 人 | BQ78: 人 | BV78: 人
C79: 建設環境 | W79: 人 | AB79: 人 | AG79: 人 | AH79: =IF(AI79="","",AI79) | AI79: =IF(A79="","",VLOOKUP(A79,$G$213:$Q$213,11,FALSE)) | AJ79: =$AJ$59 -> 1 | AK79: 17 | AR79: 建設環境 | BL79: 人 | BQ79: 人 | BV79: 人
C80: 機械 | W80: 人 | AB80: 人 | AG80: 人 | AH80: =IF(AI80="","",AI80) | AI80: =IF(A80="","",VLOOKUP(A80,$G$213:$Q$213,11,FALSE)) | AJ80: =$AJ$59 -> 1 | AK80: 18 | AR80: 機械 | BL80: 人 | BQ80: 人 | BV80: 人
... C82: 廃棄物 | W82: 人 | AB82: 人 | AG82: 人 | AH82: =IF(AI82="","",AI82) | AI82: =IF(A82="","",VLOOKUP(A82,$G$213:$Q$213,11,FALSE)) | AJ82: =$AJ$59 -> 1 | AK82: 20 | AR82: 廃棄物 | BL82: 人 | BQ82: 人 | BV82: 人
A85: 登録業種 | K85: 登録番号 | S85: 登録年月日 | Z85: 完成測量高 | AP85: 登録業種 | AZ85: 登録番号 | BH85: 登録年月日 | BO85: 完成測量高
A86: 建築関係建設コンサルタント | K86: 第 | R86: 号 | AF86: 千円 | AJ86: 2 | AP86: 建築関係建設コンサルタント | AZ86: 第 | BG86: 号 | BU86: 千円
A87: 希望 | C87: 種別 | S87: 技術者の数（登録する営業所の人数） | AP87: 希望 | AR87: 種別 | BH87: 技術者の数（登録する営業所の人数）
C89: 建築関係建設コンサルタント | AG89: 人 | AH89: =IF(AI89="","",AI89) | AI89: =IF(A89="","",VLOOKUP(A89,$G$213:$Q$213,11,FALSE)) | AJ89: =AJ86 -> 2 | AK89: 0 | AR89: 建築関係建設コンサルタント | BV89: 人
A92: 登録業種 | K92: 登録番号 | S92: 登録年月日 | Z92: 完成測量高 | AP92: 登録業種 | AZ92: 登録番号 | BH92: 登録年月日 | BO92: 完成測量高
A93: 地質調査 | K93: 第 | R93: 号 | AF93: 千円 | AJ93: 3 | AP93: 地質調査 | AZ93: 第 | BG93: 号 | BU93: 千円
A94: 希望 | C94: 種別 | S94: 技術者の数（登録する営業所の人数） | AP94: 希望 | AR94: 種別 | BH94: 技術者の数（登録する営業所の人数）
C96: 地質調査 | AG96: 人 | AH96: =IF(AI96="","",AI96) | AI96: =IF(A96="","",VLOOKUP(A96,$G$213:$Q$213,11,FALSE)) | AJ96: =AJ93 -> 3 | AK96: 0 | AR96: 地質調査 | BV96: 人
A99: 登録業種 | K99: 登録番号 | S99: 登録年月日 | Z99: 完成測量高 | AP99: 登録業種 | AZ99: 登録番号 | BH99: 登録年月日 | BO99: 完成測量高
A100: 補償関連コンサルタント | K100: 第 | R100: 号 | AF100: 千円 | AJ100: 4 | AP100: 補償関連コンサルタント | AZ100: 第 | BG100: 号 | BU100: 千円
A101: 希望 | C101: 種別 | S101: 技術者の数（登録する営業所の人数） | AP101: 希望 | AR101: 種別 | BH101: 技術者の数（登録する営業所の人数）
C103: 土地調査 | AG103: 人 | AH103: =IF(AI103="","",AI103) | AI103: =IF(A103="","",VLOOKUP(A103,$G$213:$Q$213,11,FALSE)) | AJ103: =$AJ$100 -> 4 | AK103: 0 | AP103: ○ | AR103: 土地調査 | BR103: 3 | BV103: 人
C104: 土地評価 | AG104: 人 | AH104: =IF(AI104="","",AI104) | AI104: =IF(A104="","",VLOOKUP(A104,$G$213:$Q$213,11,FALSE)) | AJ104: =$AJ$100 -> 4 | AK104: 1 | AR104: 土地評価 | BV104: 人
C105: 物件 | AG105: 人 | AH105: =IF(AI105="","",AI105) | AI105: =IF(A105="","",VLOOKUP(A105,$G$213:$Q$213,11,FALSE)) | AJ105: =$AJ$100 -> 4 | AK105: 2 | AR105: 物件 | BV105: 人
C106: 営業補償・特殊補償 | AG106: 人 | AH106: =IF(AI106="","",AI106) | AI106: =IF(A106="","",VLOOKUP(A106,$G$213:$Q$213,11,FALSE)) | AJ106: =$AJ$100 -> 4 | AK106: 3 | AR106: 営業補償・特殊補償 | BV106: 人
C107: 機械工作物 | AG107: 人 | AH107: =IF(AI107="","",AI107) | AI107: =IF(A107="","",VLOOKUP(A107,$G$213:$Q$213,11,FALSE)) | AJ107: =$AJ$100 -> 4 | AK107: 4 | AR107: 機械工作物 | BV107: 人
C108: 事業損失 | AG108: 人 | AH108: =IF(AI108="","",AI108) | AI108: =IF(A108="","",VLOOKUP(A108,$G$213:$Q$213,11,FALSE)) | AJ108: =$AJ$100 -> 4 | AK108: 5 | AR108: 事業損失 | BV108: 人
C109: 補償関連 | AG109: 人 | AH109: =IF(AI109="","",AI109) | AI109: =IF(A109="","",VLOOKUP(A109,$G$213:$Q$213,11,FALSE)) | AJ109: =$AJ$100 -> 4 | AK109: 6 | AR109: 補償関連 | BV109: 人
C110: 総合補償 | AG110: 人 | AH110: =IF(AI110="","",AI110) | AI110: =IF(A110="","",VLOOKUP(A110,$G$213:$Q$213,11,FALSE)) | AJ110: =$AJ$100 -> 4 | AK110: 7 | AR110: 総合補償 | BV110: 人
A112: 上記の業者カードおよび別紙の常勤技術者名簿の登録申請を致します。 | AA112: 代表者印または受任者印 | AP112: 上記の業者カードおよび別紙の常勤技術者名簿の登録申請を致します。 | BP112: 代表者印または受任者印
A113: この記載事項は、事実に相違ありません。 | AP113: この記載事項は、事実に相違ありません。
A190: 【選択肢一覧】
A191: 届出区分 | F191: 1 | G191: 新規 | Q191: 1
F192: 2 | G192: 更新 | Q192: 2
A195: 本社所在地域 | F195: 1 | G195: 市内 | Q195: 1
F196: 2 | G196: 準市内 | Q196: 2
...

Sheet Inputval
A1: 項目説明1 | B1: 項目説明2 | C1: 区分 | D1: KeyWord1 | E1: KeyWord2 | F1: 値 | G1: 補足 | N1: 対応項目
A2: 業者区分 | B2: 建設、業務、物品 | C2: Info | D2: ORDER_CLASS | F2: =業者カード!AI2 -> 1
A3: バージョン情報 | C3: Info | D3: VERSION | F3: =業者カード!AK4 -> 2026090101
A4: 年度 | C4: Info | D4: YEAR | F4: =業者カード!AJ2 -> 2026
A5: LASDECコード | C5: Info | D5: LASDEC | F5: =業者カード!AI5 -> 18210
A7: 情報 | C7: 区分 | D7: KeyWord1 | E7: KeyWord2 | F7: 値 | G7: 補足
A8: 記入日 | C8: Info | D8: EditDate | F8: =IF(業者カード!AB1="","",業者カード!AB1) -> 46508 | N8: 受付年月日
A9: 届出区分 | C9: Info | D9: NEW_CLASS | F9: =業者カード!AH10 | G9: =業者カード!F10 -> 0
A10: 本社所在地 | C10: Val | D10: MST_SUPPLIER_LIST | E10: SU_AREA | F10: =業者カード!AI10 | G10: =業者カード!T10 -> 0 | N10: 地域
A11: 業者番号 | C11: Val | D11: MST_SUPPLIER_LIST | E11: SU_CODE | F11: =IF(業者カード!F7="","",業者カード!AH7)
A12: 法人番号 | C12: Val | D12: MST_SUPPLIER_LIST | E12: SU_CORPORATE_NO | F12: =IF(F13=1,IF(業者カード!F9="","",業者カード!AI9),IF(業者カード!F8="","",業者カード!AH8))
A13: インボイス登録番号 | C13: Val | D13: MST_SUPPLIER_LIST | E13: FlgIsInvoiceNo | F13: =業者カード!AH9 -> 0
A15: 申請者(本社) | C15: 区分 | D15: KeyWord1 | E15: KeyWord2 | N15: 本社情報
A16: 法人名 | C16: Info | D16: MST_SUPPLIER_LIST | F16: =業者カード!AI14 | N16: 商号に法人名を付与する
A17: 商号 | C17: Val | D17: MST_SUPPLIER_LIST | E17: SU_NAME | F17: =IF(業者カード!O14="","",業者カード!AH14) | N17: 商号又は名称
A18: 商号カナ | C18: Val | D18: MST_SUPPLIER_LIST | E18: SU_NAME_PRONOUNCE | F18: =IF(業者カード!O13="","",業者カード!O13) | N18: フリガナ
A19: 郵便番号 | C19: Val | D19: MST_SUPPLIER_LIST | E19: SU_ZIP | F19: =IF(業者カード!AH15="","",業者カード!AH15) | N19: 郵便番号
A20: 所在地又は住所 | C20: Val | D20: MST_SUPPLIER_LIST | E20: SU_ADDRESS | F20: =IF(業者カード!AH16="","",業者カード!AH16) | N20: 所在地又は住所
A21: 代表者 | B21: 役職 | C21: Val | D21: MST_SUPPLIER_LIST | E21: SU_TOP_POST | F21: =IF(業者カード!H20="","",業者カード!H20) | N21: 役職
B22: 氏名 | C22: Val | D22: MST_SUPPLIER_LIST | E22: SU_TOP_NAME | F22: =IF(業者カード!Q20="","",業者カード!Q20) | N22: 氏名
B23: フリガナ | C23: Val | D23: MST_SUPPLIER_LIST | E23: SU_TOP_NAME_PRONOUNCE | F23: =IF(業者カード!Q19="","",業者カード!Q19) | N23: フリガナ
A24: 電話番号 | C24: Val | D24: MST_SUPPLIER_LIST | E24: SU_TEL | F24: =IF(業者カード!F21="","",業者カード!F21) | N24: 電話番号
A25: FAX番号 | C25: Val | D25: MST_SUPPLIER_LIST | E25: SU_FAX | F25: =IF(業者カード!F22="","",業者カード!F22) | N25: FAX番号
A26: メールアドレス | C26: Val | D26: MST_SUPPLIER_LIST | E26: SU_MAIL | F26: =IF(業者カード!F23="","",業者カード!F23) | N26: メールアドレス
A28: 営業所 | C28: 区分 | D28: KeyWord1 | E28: KeyWord2 | N28: 営業所情報
A29: 名称 | C29: Val | D29: MST_SUPPLIER_LIST | E29: SU_BRANCH_NAME | F29: =IF(業者カード!Q27="","",業者カード!AH27) | N29: 名称
A30: カナ | C30: Val | D30: MST_SUPPLIER_LIST | E30: SU_BRANCH_NAME_PRONOUNCE | F30: =IF(業者カード!Q26="","",業者カード!AH26) | N30: フリガナ
A31: 郵便番号 | C31: Val | D31: MST_SUPPLIER_LIST | E31: SU_BRANCH_ZIP | F31: =IF(業者カード!AH28="","",業者カード!AH28) | N31: 郵便番号
A32: 所在地又は住所 | C32: Val | D32: MST_SUPPLIER_LIST | E32: SU_BRANCH_ADDRESS | F32: =IF(業者カード!AH29="","",業者カード!AH29) | N32: 所在地又は住所
A33: 代表者 | B33: 役職 | C33: Val | D33: MST_SUPPLIER_LIST | E33: SU_BRANCH_TOP_POST | F33: =IF(業者カード!H33="","",業者カード!H33) | N33: 役職
B34: 氏名 | C34: Val | D34: MST_SUPPLIER_LIST | E34: SU_BRANCH_TOP_NAME | F34: =IF(業者カード!Q33="","",業者カード!Q33) | N34: 氏名
B35: フリガナ | C35: Val | D35: MST_SUPPLIER_LIST | E35: SU_BRANCH_TOP_NAME_PRONOUNCE | F35: =IF(業者カード!Q32="","",業者カード!Q32) | N35: フリガナ
A36: 電話番号 | C36: Val | D36: MST_SUPPLIER_LIST | E36: SU_BRANCH_TEL | F36: =IF(業者カード!F34="","",業者カード!F34) | N36: 電話番号
A37: FAX番号 | C37: Val | D37: MST_SUPPLIER_LIST | E37: SU_BRANCH_FAX | F37: =IF(業者カード!F34="","",業者カード!F34) | N37: FAX番号
A38: メールアドレス | C38: Val | D38: MST_SUPPLIER_LIST | E38: SU_BRANCH_MAIL | F38: =IF(業者カード!F36="","",業者カード!F36) | N38: メールアドレス
C40: 区分 | D40: KeyWord1 | E40: KeyWord2 | N40: 本社情報
A41: 資本金 | C41: Val | D41: MST_SUPPLIER_LIST | E41: SU_CAPITAL | F41: =IF(業者カード!F38="","",業者カード!F38) | N41: 資本金
A42: 自己資本金 | C42: Val | D42: MST_SUPPLIER_LIST | E42: SU_OWNER_CAPITAL | F42: =IF(業者カード!W38="","",業者カード!W38) | N42: 自己資本金
A43: 設立登記年月日 | C43: Val | D43: MST_SUPPLIER_LIST | E43: SU_REGIST_DATE | F43: =IF(業者カード!F39="","",業者カード!F39) | N43: 設立登記年月日
A44: 営業年数 | C44: Val | D44: MST_SUPPLIER_LIST | E44: SU_BUSINESS_YEARS | F44: =IF(業者カード!U39="","",業者カード!U39) | N44: 営業年数
A45: 従業員数 | C45: Val | D45: MST_SUPPLIER_LIST | E45: SU_STAFF_NUM | F45: =IF(業者カード!AC39="","",業者カード!AC39) | N45: 従業員数
A47: 問い合わせ先 | C47: 区分 | D47: KeyWord1 | E47: KeyWord2 | N47: 問合せ先
A48: 部署 | C48: Val | D48: MST_SUPPLIER_LIST | E48: SU_CHARGE_SECTION | F48: =IF(業者カード!H43="","",業者カード!H43) | N48: 部署
A49: 氏名 | C49: Val | D49: MST_SUPPLIER_LIST | E49: SU_CHARGE_NAME | F49: =IF(業者カード!Q43="","",業者カード!Q43) | N49: 氏名
A50: カナ | C50: Val | D50: MST_SUPPLIER_LIST | E50: SU_CHARGE_NAME_PRONOUNCE | F50: =IF(業者カード!Q42="","",業者カード!Q42) | N50: フリガナ
A51: 電話番号 | C51: Val | D51: MST_SUPPLIER_LIST | E51: SU_CHARGE_TEL | F51: =IF(業者カード!F44="","",業者カード!F44) | N51: 電話番号
A52: FAX番号 | C52: Val | D52: MST_SUPPLIER_LIST | E52: SU_CHARGE_FAX | F52: =IF(業者カード!F45="","",業者カード!F45) | N52: FAX番号
A53: メールアドレス | C53: Val | D53: MST_SUPPLIER_LIST | E53: SU_CHARGE_MAIL | F53: =IF(業者カード!F46="","",業者カード!F46) | N53: メールアドレス
A59: 登録業種 | C59: 区分 | D59: KeyWord1 | E59: 業種INDEX | F59: JUDGE | G59: 登録番号 | H59: 登録年月日 | I59: 完成測量高
C60: Table | D60: MST_SUPPLIER_CONSUL_INFO | E60: SU_KIND_INDEX | F60: IsImport | G60: SU_PERMIT_NUM | H60: SU_PERMIT_DATE | I60: SU_FINISH_CONSTRUCT_COST
A61: =業者カード!A50 -> 測量 | C61: TableVal | D61: MST_SUPPLIER_CONSUL_INFO | E61: 0 | F61: =IF(OR(G61<>"",H61>0,I61>0),1,"") | G61: =IF(業者カード!L50="","",業者カード!L50) | H61: =業者カード!S50 -> 0 | I61: =業者カード!Z50 -> 0
A62: =業者カード!A59 -> 土木関係建設コンサルタント | C62: TableVal | D62: MST_SUPPLIER_CONSUL_INFO | E62: 1 | F62: =IF(OR(G62<>"",H62>0,I62>0),1,"") | G62: =IF(業者カード!L59="","",業者カード!L59) | H62: =業者カード!S59 -> 0 | I62: =業者カード!Z59 -> 0
A63: =業者カード!A86 -> 建築関係建設コンサルタント | C63: TableVal | D63: MST_SUPPLIER_CONSUL_INFO | E63: 2 | F63: =IF(OR(G63<>"",H63>0,I63>0),1,"") | G63: =IF(業者カード!L86="","",業者カード!L86) | H63: =業者カード!S86 -> 0 | I63: =業者カード!Z86 -> 0
A64: =業者カード!A93 -> 地質調査 | C64: TableVal | D64: MST_SUPPLIER_CONSUL_INFO | E64: 3 | F64: =IF(OR(G64<>"",H64>0,I64>0),1,"") | G64: =IF(業者カード!L93="","",業者カード!L93) | H64: =業者カード!S93 -> 0 | I64: =業者カード!Z93 -> 0
A65: =業者カード!A100 -> 補償関連コンサルタント | C65: TableVal | D65: MST_SUPPLIER_CONSUL_INFO | E65: 4 | F65: =IF(OR(G65<>"",H65>0,I65>0),1,"") | G65: =IF(業者カード!L100="","",業者カード!L100) | H65: =業者カード!S100 -> 0 | I65: =業者カード!Z100 -> 0
C68: 区分 | D68: KeyWord1 | E68: 業種INDEX | F68: 取込対象 | G68: 許可登録 | H68: 種別ID | I68: 希望 | J68: 技術者1 | K68: 技術者2 | L68: 技術者3
C69: Table | D69: MST_SUPPLIER_CONSUL_KIND | E69: SU_KIND_INDEX | F69: IsImport | G69: SU_KIND_VALID | H69: SU_KIND_ID | I69: SU_KIND_REQUEST | J69: SU_KIND_STAFF1 | K69: SU_KIND_STAFF2 | L69: SU_KIND_STAFF3
A70: =業者カード!A50 -> 測量 | C70: TableVal | D70: MST_SUPPLIER_CONSUL_KIND | E70: 0 | F70: =IF(OR(G70<>"",I70<>"",J70>0,K70>0,L70>0),1,"") | G70: =業者カード!AH53 | H70: =業者カード!AK53 -> 0 | I70: =業者カード!AI53 | J70: =業者カード!S53 -> 0 | K70: =業者カード!X53 -> 0 | L70: =業者カード!AC53 -> 0
C71: TableVal | D71: MST_SUPPLIER_CONSUL_KIND | E71: 0 | F71: =IF(OR(G71<>"",I71<>"",J71>0,K71>0,L71>0),1,"") | G71: =業者カード!AH54 | H71: =業者カード!AK54 -> 1 | I71: =業者カード!AI54 | J71: =業者カード!S54 -> 0 | K71: =業者カード!X54 -> 0 | L71: =業者カード!AC54 -> 0
C72: TableVal | D72: MST_SUPPLIER_CONSUL_KIND | E72: 0 | F72: =IF(OR(G72<>"",I72<>"",J72>0,K72>0,L72>0),1,"") | G72: =業者カード!AH55 | H72: =業者カード!AK55 -> 2 | I72: =業者カード!AI55 | J72: =業者カード!S55 -> 0 | K72: =業者カード!X55 -> 0 | L72: =業者カード!AC55 -> 0
A73: =業者カード!A59 -> 土木関係建設コンサルタント | C73: TableVal | D73: MST_SUPPLIER_CONSUL_KIND | E73: =業者カード!$AJ$59 -> 1 | F73: =IF(OR(G73<>"",I73<>"",J73>0,K73>0,L73>0),1,"") | G73: =業者カード!AH62 | H73: =業者カード!AK62 -> 0 | I73: =業者カード!AI62 | J73: =業者カード!S62 -> 0 | K73: =業者カード!X62 -> 0 | L73: =業者カード!AC62 -> 0
C74: TableVal | D74: MST_SUPPLIER_CONSUL_KIND | E74: =業者カード!$AJ$59 -> 1 | F74: =IF(OR(G74<>"",I74<>"",J74>0,K74>0,L74>0),1,"") | G74: =業者カード!AH63 | H74: =業者カード!AK63 -> 1 | I74: =業者カード!AI63 | J74: =業者カード!S63 -> 0 | K74: =業者カード!X63 -> 0 | L74: =業者カード!AC63 -> 0
C75: TableVal | D75: MST_SUPPLIER_CONSUL_KIND | E75: =業者カード!$AJ$59 -> 1 | F75: =IF(OR(G75<>"",I75<>"",J75>0,K75>0,L75>0),1,"") | G75: =業者カード!AH64 | H75: =業者カード!AK64 -> 2 | I75: =業者カード!AI64 | J75: =業者カード!S64 -> 0 | K75: =業者カード!X64 -> 0 | L75: =業者カード!AC64 -> 0
C76: TableVal | D76: MST_SUPPLIER_CONSUL_KIND | E76: =業者カード!$AJ$59 -> 1 | F76: =IF(OR(G76<>"",I76<>"",J76>0,K76>0,L76>0),1,"") | G76: =業者カード!AH65 | H76: =業者カード!AK65 -> 3 | I76: =業者カード!AI65 | J76: =業者カード!S65 -> 0 | K76: =業者カード!X65 -> 0 | L76: =業者カード!AC65 -> 0
C77: TableVal | D77: MST_SUPPLIER_CONSUL_KIND | E77: =業者カード!$AJ$59 -> 1 | F77: =IF(OR(G77<>"",I77<>"",J77>0,K77>0,L77>0),1,"") | G77: =業者カード!AH66 | H77: =業者カード!AK66 -> 4 | I77: =業者カード!AI66 | J77: =業者カード!S66 -> 0 | K77: =業者カード!X66 -> 0 | L77: =業者カード!AC66 -> 0
C78: TableVal | D78: MST_SUPPLIER_CONSUL_KIND | E78: =業者カード!$AJ$59 -> 1 | F78: =IF(OR(G78<>"",I78<>"",J78>0,K78>0,L78>0),1,"") | G78: =業者カード!AH67 | H78: =業者カード!AK67 -> 5 | I78: =業者カード!AI67 | J78: =業者カード!S67 -> 0 | K78: =業者カード!X67 -> 0 | L78: =業者カード!AC67 -> 0
C79: TableVal | D79: MST_SUPPLIER_CONSUL_KIND | E79: =業者カード!$AJ$59 -> 1 | F79: =IF(OR(G79<>"",I79<>"",J79>0,K79>0,L79>0),1,"") | G79: =業者カード!AH68 | H79: =業者カード!AK68 -> 6 | I79: =業者カード!AI68 | J79: =業者カード!S68 -> 0 | K79: =業者カード!X68 -> 0 | L79: =業者カード!AC68 -> 0
C80: TableVal | D80: MST_SUPPLIER_CONSUL_KIND | E80: =業者カード!$AJ$59 -> 1 | F80: =IF(OR(G80<>"",I80<>"",J80>0,K80>0,L80>0),1,"") | G80: =業者カード!AH69 | H80: =業者カード!AK69 -> 7 | I80: =業者カード!AI69 | J80: =業者カード!S69 -> 0 | K80: =業者カード!X69 -> 0 | L80: =業者カード!AC69 -> 0
C81: TableVal | D81: MST_SUPPLIER_CONSUL_KIND | E81: =業者カード!$AJ$59 -> 1 | F81: =IF(OR(G81<>"",I81<>"",J81>0,K81>0,L81>0),1,"") | G81: =業者カード!AH70 | H81: =業者カード!AK70 -> 8 | I81: =業者カード!AI70 | J81: =業者カード!S70 -> 0 | K81: =業者カード!X70 -> 0 | L81: =業者カード!AC70 -> 0
C82: TableVal | D82: MST_SUPPLIER_CONSUL_KIND | E82: =業者カード!$AJ$59 -> 1 | F82: =IF(OR(G82<>"",I82<>"",J82>0,K82>0,L82>0),1,"") | G82: =業者カード!AH71 | H82: =業者カード!AK71 -> 9 | I82: =業者カード!AI71 | J82: =業者カード!S71 -> 0 | K82: =業者カード!X71 -> 0 | L82: =業者カード!AC71 -> 0
C83: TableVal | D83: MST_SUPPLIER_CONSUL_KIND | E83: =業者カード!$AJ$59 -> 1 | F83: =IF(OR(G83<>"",I83<>"",J83>0,K83>0,L83>0),1,"") | G83: =業者カード!AH72 | H83: =業者カード!AK72 -> 10 | I83: =業者カード!AI72 | J83: =業者カード!S72 -> 0 | K83: =業者カード!X72 -> 0 | L83: =業者カード!AC72 -> 0
C84: TableVal | D84: MST_SUPPLIER_CONSUL_KIND | E84: =業者カード!$AJ$59 -> 1 | F84: =IF(OR(G84<>"",I84<>"",J84>0,K84>0,L84>0),1,"") | G84: =業者カード!AH73 | H84: =業者カード!AK73 -> 11 | I84: =業者カード!AI73 | J84: =業者カード!S73 -> 0 | K84: =業者カード!X73 -> 0 | L84: =業者カード!AC73 -> 0
C85: TableVal | D85: MST_SUPPLIER_CONSUL_KIND | E85: =業者カード!$AJ$59 -> 1 | F85: =IF(OR(G85<>"",I85<>"",J85>0,K85>0,L85>0),1,"") | G85: =業者カード!AH74 | H85: =業者カード!AK74 -> 12 | I85: =業者カード!AI74 | J85: =業者カード!S74 -> 0 | K85: =業者カード!X74 -> 0 | L85: =業者カード!AC74 -> 0
... C93: TableVal | D93: MST_SUPPLIER_CONSUL_KIND | E93: =業者カード!$AJ$59 -> 1 | F93: =IF(OR(G93<>"",I93<>"",J93>0,K93>0,L93>0),1,"") | G93: =業者カード!AH82 | H93: =業者カード!AK82 -> 20 | I93: =業者カード!AI82 | J93: =業者カード!S82 -> 0 | K93: =業者カード!X82 -> 0 | L93: =業者カード!AC82 -> 0
A94: =業者カード!A86 -> 建築関係建設コンサルタント | C94: TableVal | D94: MST_SUPPLIER_CONSUL_KIND | E94: =業者カード!AJ86 -> 2 | F94: =IF(OR(G94<>"",I94<>"",J94>0,K94>0,L94>0),1,"") | G94: =業者カード!AH89 | H94: =業者カード!AK89 -> 0 | I94: =業者カード!AI89 | J94: =業者カード!S89 -> 0 | K94: =業者カード!X89 -> 0 | L94: =業者カード!AC89 -> 0
A95: =業者カード!A93 -> 地質調査 | C95: TableVal | D95: MST_SUPPLIER_CONSUL_KIND | E95: =業者カード!$AJ$93 -> 3 | F95: =IF(OR(G95<>"",I95<>"",J95>0,K95>0,L95>0),1,"") | G95: =業者カード!AH96 | H95: =業者カード!AK96 -> 0 | I95: =業者カード!AI96 | J95: =業者カード!S96 -> 0 | K95: =業者カード!X96 -> 0 | L95: =業者カード!AC96 -> 0
A96: =業者カード!A100 -> 補償関連コンサルタント | C96: TableVal | D96: MST_SUPPLIER_CONSUL_KIND | E96: =業者カード!$AJ$100 -> 4 | F96: =IF(OR(G96<>"",I96<>"",J96>0,K96>0,L96>0),1,"") | G96: =業者カード!AH103 | H96: =業者カード!AK103 -> 0 | I96: =業者カード!AI103 | J96: =業者カード!S103 -> 0 | K96: =業者カード!X103 -> 0 | L96: =業者カード!AC103 -> 0
C97: TableVal | D97: MST_SUPPLIER_CONSUL_KIND | E97: =業者カード!$AJ$100 -> 4 | F97: =IF(OR(G97<>"",I97<>"",J97>0,K97>0,L97>0),1,"") | G97: =業者カード!AH104 | H97: =業者カード!AK104 -> 1 | I97: =業者カード!AI104 | J97: =業者カード!S104 -> 0 | K97: =業者カード!X104 -> 0 | L97: =業者カード!AC104 -> 0
C98: TableVal | D98: MST_SUPPLIER_CONSUL_KIND | E98: =業者カード!$AJ$100 -> 4 | F98: =IF(OR(G98<>"",I98<>"",J98>0,K98>0,L98>0),1,"") | G98: =業者カード!AH105 | H98: =業者カード!AK105 -> 2 | I98: =業者カード!AI105 | J98: =業者カード!S105 -> 0 | K98: =業者カード!X105 -> 0 | L98: =業者カード!AC105 -> 0
C99: TableVal | D99: MST_SUPPLIER_CONSUL_KIND | E99: =業者カード!$AJ$100 -> 4 | F99: =IF(OR(G99<>"",I99<>"",J99>0,K99>0,L99>0),1,"") | G99: =業者カード!AH106 | H99: =業者カード!AK106 -> 3 | I99: =業者カード!AI106 | J99: =業者カード!S106 -> 0 | K99: =業者カード!X106 -> 0 | L99: =業者カード!AC106 -> 0
C100: TableVal | D100: MST_SUPPLIER_CONSUL_KIND | E100: =業者カード!$AJ$100 -> 4 | F100: =IF(OR(G100<>"",I100<>"",J100>0,K100>0,L100>0),1,"") | G100: =業者カード!AH107 | H100: =業者カード!AK107 -> 4 | I100: =業者カード!AI107 | J100: =業者カード!S107 -> 0 | K100: =業者カード!X107 -> 0 | L100: =業者カード!AC107 -> 0
C101: TableVal | D101: MST_SUPPLIER_CONSUL_KIND | E101: =業者カード!$AJ$100 -> 4 | F101: =IF(OR(G101<>"",I101<>"",J101>0,K101>0,L101>0),1,"") | G101: =業者カード!AH108 | H101: =業者カード!AK108 -> 5 | I101: =業者カード!AI108 | J101: =業者カード!S108 -> 0 | K101: =業者カード!X108 -> 0 | L101: =業者カード!AC108 -> 0
C102: TableVal | D102: MST_SUPPLIER_CONSUL_KIND | E102: =業者カード!$AJ$100 -> 4 | F102: =IF(OR(G102<>"",I102<>"",J102>0,K102>0,L102>0),1,"") | G102: =業者カード!AH109 | H102: =業者カード!AK109 -> 6 | I102: =業者カード!AI109 | J102: =業者カード!S109 -> 0 | K102: =業者カード!X109 -> 0 | L102: =業者カード!AC109 -> 0
C103: TableVal | D103: MST_SUPPLIER_CONSUL_KIND | E103: =業者カード!$AJ$100 -> 4 | F103: =IF(OR(G103<>"",I103<>"",J103>0,K103>0,L103>0),1,"") | G103: =業者カード!AH110 | H103: =業者カード!AK110 -> 7 | I103: =業者カード!AI110 | J103: =業者カード!S110 -> 0 | K103: =業者カード!X110 -> 0 | L103: =業者カード!AC110 -> 0
A105: カスタマイズ項目 | C105: 区分 | D105: KeyWord1 | E105: KeyWord2
C110: [END]

Sheet InputvalEng
A1: 項目説明1 | B1: 項目説明2 | C1: 区分 | D1: KeyWord1 | E1: KeyWord2 | F1: 値 | G1: 氏名 | H1: フリガナ | I1: 生年月日 | J1: 資格１ | K1: 資格２ | L1: 資格３ | M1: 資格４ | N1: 資格交付番号 | R1: 監理技術者区分 | S1: 監理技術者証番号 | T1: 監理技術者交付日 | U1: 監理技術者有効期限 | V1: 経営管理責任者 | W1: 専任技術者
A3: 技術者名簿 | F3: 編集タイプ | J3: 有資格区分 | N3: 資格交付番号
G4: =IF(#REF!="","",#REF!) -> #REF! | J4: 1 | K4: 2 | L4: 3 | M4: 4 | N4: 1 | O4: 2 | P4: 3 | Q4: 4 | R4: 監理技術者区分 | S4: 監理技術者証番号 | T4: 監理技術者交付日 | U4: 監理技術者有効期限 | V4: 経営管理責任者 | W4: 専任技術者
B6: 対象行 | C6: Table | D6: MST_SUPPLIER_KENSETSU_ENGINEER | E6: GJS_ID | F6: #Judge | G6: GJS_NAME | H6: GJS_KANA | I6: GJS_SEINENGAPPI | J6: GJS_YUSIKAKU01 | K6: GJS_YUSIKAKU02 | L6: GJS_YUSIKAKU03 | M6: GJS_YUSIKAKU04 | N6: #YUSIKAKU_NO01 | O6: #YUSIKAKU_NO02 | P6: #YUSIKAKU_NO03 | Q6: #YUSIKAKU_NO04 | R6: GJS_KANRI_KUBUN | S6: GJS_KNRGJS_CD | T6: GJS_KNRGJS_KOUFU_DATE | U6: GJS_KNRGJS_YUKOU_DATE | V6: GJS_KEIEI_KUBUN | W6: GJS_SENNIN_KUBUN
A7: 1人目 | B7: 6 | C7: TableVal | D7: MST_SUPPLIER_KENSETSU_ENGINEER | E7: 1 | F7: =IF(#REF!="","",1) -> #REF! | G7: =IF(#REF!="","",#REF!) -> #REF! | H7: =IF(#REF!="","",#REF!) -> #REF! | I7: =IF(#REF!="","",#REF!) -> #REF! | J7: =IF(#REF!="","",#REF!) -> #REF! | K7: =IF(#REF!="","",#REF!) -> #REF! | L7: =IF(#REF!="","",#REF!) -> #REF! | M7: =IF(#REF!="","",#REF!) -> #REF!
A8: 2人目 | B8: =B7+4 -> 10 | C8: TableVal | D8: MST_SUPPLIER_KENSETSU_ENGINEER | E8: 2 | F8: =IF(#REF!="","",1) -> #REF! | G8: =IF(#REF!="","",#REF!) -> #REF! | H8: =IF(#REF!="","",#REF!) -> #REF! | I8: =IF(#REF!="","",#REF!) -> #REF! | J8: =IF(#REF!="","",#REF!) -> #REF! | K8: =IF(#REF!="","",#REF!) -> #REF! | L8: =IF(#REF!="","",#REF!) -> #REF! | M8: =IF(#REF!="","",#REF!) -> #REF!
A9: 3人目 | B9: =B8+4 -> 14 | C9: TableVal | D9: MST_SUPPLIER_KENSETSU_ENGINEER | E9: 3 | F9: =IF(#REF!="","",1) -> #REF! | G9: =IF(#REF!="","",#REF!) -> #REF! | H9: =IF(#REF!="","",#REF!) -> #REF! | I9: =IF(#REF!="","",#REF!) -> #REF! | J9: =IF(#REF!="","",#REF!) -> #REF! | K9: =IF(#REF!="","",#REF!) -> #REF! | L9: =IF(#REF!="","",#REF!) -> #REF! | M9: =IF(#REF!="","",#REF!) -> #REF!
A10: 4人目 | B10: =B9+4 -> 18 | C10: TableVal | D10: MST_SUPPLIER_KENSETSU_ENGINEER | E10: 4 | F10: =IF(#REF!="","",1) -> #REF! | G10: =IF(#REF!="","",#REF!) -> #REF! | H10: =IF(#REF!="","",#REF!) -> #REF! | I10: =IF(#REF!="","",#REF!) -> #REF! | J10: =IF(#REF!="","",#REF!) -> #REF! | K10: =IF(#REF!="","",#REF!) -> #REF! | L10: =IF(#REF!="","",#REF!) -> #REF! | M10: =IF(#REF!="","",#REF!) -> #REF!
A11: 5人目 | B11: =B10+4 -> 22 | C11: TableVal | D11: MST_SUPPLIER_KENSETSU_ENGINEER | E11: 5 | F11: =IF(#REF!="","",1) -> #REF! | G11: =IF(#REF!="","",#REF!) -> #REF! | H11: =IF(#REF!="","",#REF!) -> #REF! | I11: =IF(#REF!="","",#REF!) -> #REF! | J11: =IF(#REF!="","",#REF!) -> #REF! | K11: =IF(#REF!="","",#REF!) -> #REF! | L11: =IF(#REF!="","",#REF!) -> #REF! | M11: =IF(#REF!="","",#REF!) -> #REF!
A12: 6人目 | B12: =B11+4 -> 26 | C12: TableVal | D12: MST_SUPPLIER_KENSETSU_ENGINEER | E12: 6 | F12: =IF(#REF!="","",1) -> #REF! | G12: =IF(#REF!="","",#REF!) -> #REF! | H12: =IF(#REF!="","",#REF!) -> #REF! | I12: =IF(#REF!="","",#REF!) -> #REF! | J12: =IF(#REF!="","",#REF!) -> #REF! | K12: =IF(#REF!="","",#REF!) -> #REF! | L12: =IF(#REF!="","",#REF!) -> #REF! | M12: =IF(#REF!="","",#REF!) -> #REF!
A13: 7人目 | B13: =B12+4 -> 30 | C13: TableVal | D13: MST_SUPPLIER_KENSETSU_ENGINEER | E13: 7 | F13: =IF(#REF!="","",1) -> #REF! | G13: =IF(#REF!="","",#REF!) -> #REF! | H13: =IF(#REF!="","",#REF!) -> #REF! | I13: =IF(#REF!="","",#REF!) -> #REF! | J13: =IF(#REF!="","",#REF!) -> #REF! | K13: =IF(#REF!="","",#REF!) -> #REF! | L13: =IF(#REF!="","",#REF!) -> #REF! | M13: =IF(#REF!="","",#REF!) -> #REF!
A14: 8人目 | B14: =B13+4 -> 34 | C14: TableVal | D14: MST_SUPPLIER_KENSETSU_ENGINEER | E14: 8 | F14: =IF(#REF!="","",1) -> #REF! | G14: =IF(#REF!="","",#REF!) -> #REF! | H14: =IF(#REF!="","",#REF!) -> #REF! | I14: =IF(#REF!="","",#REF!) -> #REF! | J14: =IF(#REF!="","",#REF!) -> #REF! | K14: =IF(#REF!="","",#REF!) -> #REF! | L14: =IF(#REF!="","",#REF!) -> #REF! | M14: =IF(#REF!="","",#REF!) -> #REF!
A15: 9人目 | B15: =B14+4 -> 38 | C15: TableVal | D15: MST_SUPPLIER_KENSETSU_ENGINEER | E15: 9 | F15: =IF(#REF!="","",1) -> #REF! | G15: =IF(#REF!="","",#REF!) -> #REF! | H15: =IF(#REF!="","",#REF!) -> #REF! | I15: =IF(#REF!="","",#REF!) -> #REF! | J15: =IF(#REF!="","",#REF!) -> #REF! | K15: =IF(#REF!="","",#REF!) -> #REF! | L15: =IF(#REF!="","",#REF!) -> #REF! | M15: =IF(#REF!="","",#REF!) -> #REF!
A16: 10人目 | B16: =B15+4 -> 42 | C16: TableVal | D16: MST_SUPPLIER_KENSETSU_ENGINEER | E16: 10 | F16: =IF(#REF!="","",1) -> #REF! | G16: =IF(#REF!="","",#REF!) -> #REF! | H16: =IF(#REF!="","",#REF!) -> #REF! | I16: =IF(#REF!="","",#REF!) -> #REF! | J16: =IF(#REF!="","",#REF!) -> #REF! | K16: =IF(#REF!="","",#REF!) -> #REF! | L16: =IF(#REF!="","",#REF!) -> #REF! | M16: =IF(#REF!="","",#REF!) -> #REF!
A17: 11人目 | B17: =B16+4 -> 46 | C17: TableVal | D17: MST_SUPPLIER_KENSETSU_ENGINEER | E17: 11 | F17: =IF(#REF!="","",1) -> #REF! | G17: =IF(#REF!="","",#REF!) -> #REF! | H17: =IF(#REF!="","",#REF!) -> #REF! | I17: =IF(#REF!="","",#REF!) -> #REF! | J17: =IF(#REF!="","",#REF!) -> #REF! | K17: =IF(#REF!="","",#REF!) -> #REF! | L17: =IF(#REF!="","",#REF!) -> #REF! | M17: =IF(#REF!="","",#REF!) -> #REF!
A18: 12人目 | B18: =B17+4 -> 50 | C18: TableVal | D18: MST_SUPPLIER_KENSETSU_ENGINEER | E18: 12 | F18: =IF(#REF!="","",1) -> #REF! | G18: =IF(#REF!="","",#REF!) -> #REF! | H18: =IF(#REF!="","",#REF!) -> #REF! | I18: =IF(#REF!="","",#REF!) -> #REF! | J18: =IF(#REF!="","",#REF!) -> #REF! | K18: =IF(#REF!="","",#REF!) -> #REF! | L18: =IF(#REF!="","",#REF!) -> #REF! | M18: =IF(#REF!="","",#REF!) -> #REF!
A19: 13人目 | B19: =B18+4 -> 54 | C19: TableVal | D19: MST_SUPPLIER_KENSETSU_ENGINEER | E19: 13 | F19: =IF(#REF!="","",1) -> #REF! | G19: =IF(#REF!="","",#REF!) -> #REF! | H19: =IF(#REF!="","",#REF!) -> #REF! | I19: =IF(#REF!="","",#REF!) -> #REF! | J19: =IF(#REF!="","",#REF!) -> #REF! | K19: =IF(#REF!="","",#REF!) -> #REF! | L19: =IF(#REF!="","",#REF!) -> #REF! | M19: =IF(#REF!="","",#REF!) -> #REF!
... A156: 150人目 | B156: =B155+4 -> 602 | C156: TableVal | D156: MST_SUPPLIER_KENSETSU_ENGINEER | E156: 150 | F156: =IF(#REF!="","",1) -> #REF! | G156: =IF(#REF!="","",#REF!) -> #REF! | H156: =IF(#REF!="","",#REF!) -> #REF! | I156: =IF(#REF!="","",#REF!) -> #REF! | J156: =IF(#REF!="","",#REF!) -> #REF! | K156: =IF(#REF!="","",#REF!) -> #REF! | L156: =IF(#REF!="","",#REF!) -> #REF! | M156: =IF(#REF!="","",#REF!) -> #REF!
